BEGIN:VCALENDAR
VERSION:2.0
PRODID:-//Microsoft Corporation//Outlook 16.0 MIMEDIR//FR
CALSCALE:GREGORIAN
METHOD:PUBLISH
X-WR-TIMEZONE:Europe/Monaco
X-MS-OLK-FORCEINSPECTOROPEN:"TRUE"
BEGIN:VTIMEZONE
TZID:Europe/Monaco
BEGIN:STANDARD
DTSTART:20241027T010000
TZOFFSETTO:+0100
TZOFFSETFROM:+0200
RRULE:FREQ=YEARLY;BYMONTH=11;BYDAY=1SU
END:STANDARD
BEGIN:DAYLIGHT
DTSTART:20240331T010000
TZOFFSETTO:+0200
TZOFFSETFROM:+0100
RRULE:FREQ=YEARLY;BYMONTH=3;BYDAY=2SU
END:DAYLIGHT
END:VTIMEZONE
BEGIN:VEVENT
UID:3493-b17dc78ec8783004bf1019e565b826a6-principocket.com\n
DTSTART:20240503T200000
DTEND:20240503T200000
TRANSP:TRANSPARENT
IMAGE;VALUE=URI;DISPLAY=;FMTTYPE=image/png:https://app.monacoplatform.
 com/uploads/mW/mW_G0Go_An.jpg
STATUS:CONFIRMED
SUMMARY:Concert - "The Blues Brothers Approved"
DESCRIPTION:Friday 3 May 2024\, at 8 pm\, Grimaldi Forum Monaco\n\nThe
  Blues Brothers were created in the 1970s by comedians John Belushi an
 d Dan Aykroyd. After the success of their debit album "Briefcase Full 
 Of Blues" and a US tour\, the cult movie followed\, featuring a host o
 f soul and blues legends and brilliant performances by Ray Charles and
  Aretha Franklin. The hit soundtrack included all-time classics includ
 ing Everybody Needs Somebody to Love\, Soul Man\, and Think.\n\n https
 ://www.principocket.com/it/event/b17dc78ec8783004bf1019e565b826a6/conc
 ert-the-blues-brothers-approved
LOCATION:10\, avenue Princesse Grace
URL:https://www.principocket.com/event/b17dc78ec8783004bf1019e565b826a
 6/3493
DTSTAMP:20260420T192840Z
CREATED:20240503T141331Z
LAST-MODIFIED:20240503T141331Z
END:VEVENT
END:VCALENDAR
