BEGIN:VCALENDAR
VERSION:2.0
PRODID:-//Microsoft Corporation//Outlook 16.0 MIMEDIR//FR
CALSCALE:GREGORIAN
METHOD:PUBLISH
X-WR-TIMEZONE:Europe/Monaco
X-MS-OLK-FORCEINSPECTOROPEN:"TRUE"
BEGIN:VTIMEZONE
TZID:Europe/Monaco
BEGIN:STANDARD
DTSTART:20241027T010000
TZOFFSETTO:+0100
TZOFFSETFROM:+0200
RRULE:FREQ=YEARLY;BYMONTH=11;BYDAY=1SU
END:STANDARD
BEGIN:DAYLIGHT
DTSTART:20240331T010000
TZOFFSETTO:+0200
TZOFFSETFROM:+0100
RRULE:FREQ=YEARLY;BYMONTH=3;BYDAY=2SU
END:DAYLIGHT
END:VTIMEZONE
BEGIN:VEVENT
UID:3492-47610877fe80a24b7454c9fe1fa87e63-principocket.com\n
DTSTART:20240502T203000
DTEND:20240502T203000
TRANSP:TRANSPARENT
IMAGE;VALUE=URI;DISPLAY=;FMTTYPE=image/png:https://app.monacoplatform.
 com/uploads/wl/wlAkRpOkuU.jpg
STATUS:CONFIRMED
SUMMARY:Concert - "Thursday Live Session - Voilaaa"
DESCRIPTION:Thursday 2 May 2024\, at 8.30 pm\, Grimaldi Forum Monaco\n
 \nUnstoppable groove and tongue-in-cheek humour: that's the recipe for
  the Voilaaa sound. Producer Bruno "Patchworks" Hovart is the man behi
 nd this project exploring funk and disco music with African and Caribb
 ean influences. He has surrounded himself with artists from different 
 but complementary worlds\, ranging from afrobeat to soul and disco\, w
 ith the result that Pat Kalla and Sir Jean feature on the famous album
  "On te l'avait dit". Voilaaa are bringing afrodisco back with their g
 roovy\, hypnotic rhythms!\n\n https://www.principocket.com/it/event/47
 610877fe80a24b7454c9fe1fa87e63/concert-thursday-live-session-voilaaa
LOCATION:10\, avenue Princesse Grace
URL:https://www.principocket.com/event/47610877fe80a24b7454c9fe1fa87e6
 3/3492
DTSTAMP:20260422T104344Z
CREATED:20240502T123008Z
LAST-MODIFIED:20240502T123008Z
END:VEVENT
END:VCALENDAR
