BEGIN:VCALENDAR
VERSION:2.0
PRODID:-//Microsoft Corporation//Outlook 16.0 MIMEDIR//FR
CALSCALE:GREGORIAN
METHOD:PUBLISH
X-WR-TIMEZONE:Europe/Monaco
X-MS-OLK-FORCEINSPECTOROPEN:"TRUE"
BEGIN:VTIMEZONE
TZID:Europe/Monaco
BEGIN:STANDARD
DTSTART:20231029T010000
TZOFFSETTO:+0100
TZOFFSETFROM:+0200
RRULE:FREQ=YEARLY;BYMONTH=11;BYDAY=1SU
END:STANDARD
BEGIN:DAYLIGHT
DTSTART:20230326T010000
TZOFFSETTO:+0200
TZOFFSETFROM:+0100
RRULE:FREQ=YEARLY;BYMONTH=3;BYDAY=2SU
END:DAYLIGHT
END:VTIMEZONE
BEGIN:VEVENT
UID:2599-9b91b959f6eb6330ad7cc24ecc7ef9a2-principocket.com\n
DTSTART:20230927T190000
DTEND:20230927T193000
TRANSP:TRANSPARENT
IMAGE;VALUE=URI;DISPLAY=;FMTTYPE=image/png:https://app.monacoplatform.
 com/uploads/LM/LMFTh4eh3h.jpg
STATUS:CONFIRMED
SUMMARY:Attività - "Il Giuramento di Pamfir"
DESCRIPTION:Mercoledì 27 settembre 2023\, dalle 19.00 alle 19.30\, Me
 diateca di Monaco - Biblioteca Louis Notar\n\nUna sessione di cine-clu
 b.\n\n https://www.principocket.com/it/event/9b91b959f6eb6330ad7cc24ec
 c7ef9a2/attivita-il-giuramento-di-pamfir
LOCATION:5 Promenade Honoré II\, Monaco
URL:https://www.principocket.com/event/9b91b959f6eb6330ad7cc24ecc7ef9a
 2/2599
DTSTAMP:20260419T121859Z
CREATED:20230927T120232Z
LAST-MODIFIED:20230927T120232Z
END:VEVENT
END:VCALENDAR
