BEGIN:VCALENDAR
VERSION:2.0
PRODID:-//Microsoft Corporation//Outlook 16.0 MIMEDIR//FR
CALSCALE:GREGORIAN
METHOD:PUBLISH
X-WR-TIMEZONE:Europe/Monaco
X-MS-OLK-FORCEINSPECTOROPEN:"TRUE"
BEGIN:VTIMEZONE
TZID:Europe/Monaco
BEGIN:STANDARD
DTSTART:20241027T010000
TZOFFSETTO:+0100
TZOFFSETFROM:+0200
RRULE:FREQ=YEARLY;BYMONTH=11;BYDAY=1SU
END:STANDARD
BEGIN:DAYLIGHT
DTSTART:20240331T010000
TZOFFSETTO:+0200
TZOFFSETFROM:+0100
RRULE:FREQ=YEARLY;BYMONTH=3;BYDAY=2SU
END:DAYLIGHT
END:VTIMEZONE
BEGIN:VEVENT
UID:2507-e03502f78d767df8945ed94b32521ed5-principocket.com\n
DTSTART:20240109T200000
DTEND:20240109T200000
TRANSP:TRANSPARENT
IMAGE;VALUE=URI;DISPLAY=;FMTTYPE=image/png:https://app.monacoplatform.
 com/uploads/Wv/WvUEy3_Qu_.jpg
STATUS:CONFIRMED
SUMMARY:Teatro - "Le retour de Richard II par le train de 9h24"
DESCRIPTION:Martedì 9 gennaio 2024 alle 20\, Théâtre Princesse Grac
 e\n\nBasato su un'idea originale e su un film di Éric Bu\, scritto da
  Gilles Dyrek. Pierre-Henri\, consulente di comunicazione politica in 
 pensione\, riunisce la sua famiglia per una settimana nella sua casa d
 i campagna per cercare di riconciliarsi. In realtà\, condannato dalla
  medicina\, ha ingaggiato degli attori per sostituire coloro che non c
 i sono più e aiutarlo a risolvere i suoi conflitti con loro. Ma il lo
 ro turbolento passato familiare si riaccende e la situazione si trasfo
 rma in un regolamento di conti che lo porterà ben oltre quello che av
 rebbe potuto immaginare...\n\n https://www.principocket.com/it/event/e
 03502f78d767df8945ed94b32521ed5/teatro-le-retour-de-richard-ii-par-le-
 train-de-9h24
LOCATION:12\, avenue d'Ostende
URL:https://www.principocket.com/event/e03502f78d767df8945ed94b32521ed
 5/2507
DTSTAMP:20260424T091135Z
CREATED:20240109T155928Z
LAST-MODIFIED:20240109T155928Z
END:VEVENT
END:VCALENDAR
