BEGIN:VCALENDAR
VERSION:2.0
PRODID:-//Microsoft Corporation//Outlook 16.0 MIMEDIR//FR
CALSCALE:GREGORIAN
METHOD:PUBLISH
X-WR-TIMEZONE:Europe/Monaco
X-MS-OLK-FORCEINSPECTOROPEN:"TRUE"
BEGIN:VTIMEZONE
TZID:Europe/Monaco
BEGIN:STANDARD
DTSTART:20231029T010000
TZOFFSETTO:+0100
TZOFFSETFROM:+0200
RRULE:FREQ=YEARLY;BYMONTH=11;BYDAY=1SU
END:STANDARD
BEGIN:DAYLIGHT
DTSTART:20230326T010000
TZOFFSETTO:+0200
TZOFFSETFROM:+0100
RRULE:FREQ=YEARLY;BYMONTH=3;BYDAY=2SU
END:DAYLIGHT
END:VTIMEZONE
BEGIN:VEVENT
UID:2087-e12a9854b7b45c4727bc61cad4cd93e3-principocket.com\n
DTSTART:20230417T190000
DTEND:20230417T223000
TRANSP:TRANSPARENT
IMAGE;VALUE=URI;DISPLAY=;FMTTYPE=image/png:https://app.monacoplatform.
 com/uploads/H-/H-b3Rpawrp.jpeg
STATUS:CONFIRMED
SUMMARY:Ciné Club - Coming home
DESCRIPTION:Lundi 17 avril 2023\, de 19h à 22h30\, Agora - Maison Dio
 césaine\n\n\n\n https://www.principocket.com/it/event/e12a9854b7b45c4
 727bc61cad4cd93e3/cine-club-coming-home
LOCATION:18\, rue Bellevue
URL:https://www.principocket.com/event/e12a9854b7b45c4727bc61cad4cd93e
 3/2087
DTSTAMP:20260420T140247Z
CREATED:20230417T155253Z
LAST-MODIFIED:20230417T155253Z
END:VEVENT
END:VCALENDAR
