BEGIN:VCALENDAR
VERSION:2.0
PRODID:-//Microsoft Corporation//Outlook 16.0 MIMEDIR//FR
CALSCALE:GREGORIAN
METHOD:PUBLISH
X-WR-TIMEZONE:Europe/Monaco
X-MS-OLK-FORCEINSPECTOROPEN:"TRUE"
BEGIN:VTIMEZONE
TZID:Europe/Monaco
BEGIN:STANDARD
DTSTART:20231029T010000
TZOFFSETTO:+0100
TZOFFSETFROM:+0200
RRULE:FREQ=YEARLY;BYMONTH=11;BYDAY=1SU
END:STANDARD
BEGIN:DAYLIGHT
DTSTART:20230326T010000
TZOFFSETTO:+0200
TZOFFSETFROM:+0100
RRULE:FREQ=YEARLY;BYMONTH=3;BYDAY=2SU
END:DAYLIGHT
END:VTIMEZONE
BEGIN:VEVENT
UID:2086-a38b8fb428521163fb5805ce0496cf3c-principocket.com\n
DTSTART:20230404T180000
DTEND:20230404T193000
TRANSP:TRANSPARENT
IMAGE;VALUE=URI;DISPLAY=;FMTTYPE=image/png:https://app.monacoplatform.
 com/uploads/gq/gqxZ_RJSWr.jpeg
STATUS:CONFIRMED
SUMMARY:Messe Chrismale
DESCRIPTION:Mardi 4 avril 2023\, de 18h à 19h30\, Cathédrale de Mona
 co\n\n\n\n https://www.principocket.com/it/event/a38b8fb428521163fb580
 5ce0496cf3c/messe-chrismale
LOCATION:4\, rue Colonel Bellando de Castro
URL:https://www.principocket.com/event/a38b8fb428521163fb5805ce0496cf3
 c/2086
DTSTAMP:20260422T104159Z
CREATED:20230403T124203Z
LAST-MODIFIED:20230403T124203Z
END:VEVENT
END:VCALENDAR
