BEGIN:VCALENDAR
VERSION:2.0
PRODID:-//Microsoft Corporation//Outlook 16.0 MIMEDIR//FR
CALSCALE:GREGORIAN
METHOD:PUBLISH
X-WR-TIMEZONE:Europe/Monaco
X-MS-OLK-FORCEINSPECTOROPEN:"TRUE"
BEGIN:VTIMEZONE
TZID:Europe/Monaco
BEGIN:STANDARD
DTSTART:20231029T010000
TZOFFSETTO:+0100
TZOFFSETFROM:+0200
RRULE:FREQ=YEARLY;BYMONTH=11;BYDAY=1SU
END:STANDARD
BEGIN:DAYLIGHT
DTSTART:20230326T010000
TZOFFSETTO:+0200
TZOFFSETFROM:+0100
RRULE:FREQ=YEARLY;BYMONTH=3;BYDAY=2SU
END:DAYLIGHT
END:VTIMEZONE
BEGIN:VEVENT
UID:2069-69bb5c85e4cd8d0fe70a3f5756ef2da1-principocket.com\n
DTSTART:20230405T163000
DTEND:20230405T163000
TRANSP:TRANSPARENT
IMAGE;VALUE=URI;DISPLAY=;FMTTYPE=image/png:https://app.monacoplatform.
 com/uploads/kR/kROK_pD4eo.jpg
STATUS:CONFIRMED
SUMMARY:Teatro - "Blanche Neige voit rouge"
DESCRIPTION:Mercoledì 5 aprile 2023 alle 16.30\, Théâtre des Muses\
 n\nC'era una volta Biancaneve\, una principessa molto bella\, che rend
 eva gelosa alla follia la sua matrigna\, la Regina Cattiva. Per rimane
 re la più bella\, la Regina Cattiva farà di tutto per sbarazzarsi de
 lla sua bella figlia. Fortunatamente\, Biancaneve troverà rifugio nel
 la casa dei sette nani. Questa fiaba avrebbe potuto svolgersi normalme
 nte se due giovani narratrici\, una più maldestra dell'altra\, non av
 essero deciso di metterci mano.\n\n https://www.principocket.com/it/ev
 ent/69bb5c85e4cd8d0fe70a3f5756ef2da1/teatro-blanche-neige-voit-rouge
LOCATION:45\, boulevard du Jardin Exotique
URL:https://www.principocket.com/event/69bb5c85e4cd8d0fe70a3f5756ef2da
 1/2069
DTSTAMP:20260420T214034Z
CREATED:20230405T122220Z
LAST-MODIFIED:20230405T122220Z
END:VEVENT
END:VCALENDAR
