BEGIN:VCALENDAR
VERSION:2.0
PRODID:-//Microsoft Corporation//Outlook 16.0 MIMEDIR//FR
CALSCALE:GREGORIAN
METHOD:PUBLISH
X-WR-TIMEZONE:Europe/Monaco
X-MS-OLK-FORCEINSPECTOROPEN:"TRUE"
BEGIN:VTIMEZONE
TZID:Europe/Monaco
BEGIN:STANDARD
DTSTART:20231029T010000
TZOFFSETTO:+0100
TZOFFSETFROM:+0200
RRULE:FREQ=YEARLY;BYMONTH=11;BYDAY=1SU
END:STANDARD
BEGIN:DAYLIGHT
DTSTART:20230326T010000
TZOFFSETTO:+0200
TZOFFSETFROM:+0100
RRULE:FREQ=YEARLY;BYMONTH=3;BYDAY=2SU
END:DAYLIGHT
END:VTIMEZONE
BEGIN:VEVENT
UID:2068-b1166357d95adb30041723612bfee9a5-principocket.com\n
DTSTART:20230331T000000
DTEND:20231002T000000
TRANSP:TRANSPARENT
IMAGE;VALUE=URI;DISPLAY=;FMTTYPE=image/png:https://app.monacoplatform.
 com/uploads/C7/C7QrFJ0N8l.jpg
STATUS:CONFIRMED
SUMMARY:Mostra - "George Condo - Humanoïdes"
DESCRIPTION:Da venerdì 31 marzo a domenica 1 ottobre 2023\, Nouveau M
 usée National de Monaco - Villa Paloma\n\nSecondo George Condo\, "l'U
 manoide non è un mostro di fantascienza\, è una forma di rappresenta
 zione che utilizza mezzi tradizionali per portare in superficie emozio
 ni profonde di una persona". In otto capitoli\, la mostra ripercorre l
 a continuità di un nutrico corpo di lavoro che spazia dagli "alieni" 
 all'elenco telefonico per le serate mondane\, da Guido Reni a Bugs Bun
 ny. Punteggiata da dipinti appositamente realizzati\, la mostra apre l
 e porte alla fabbrica\, tanto folle quanto erudita\, di Les Humanoïde
 s. Curatore: Didier Ottinger\, Scenografo: Christophe Martin.\n\n http
 s://www.principocket.com/it/event/b1166357d95adb30041723612bfee9a5/mos
 tra-george-condo-humanoides
LOCATION:56\, boulevard du Jardin Exotique
URL:https://www.principocket.com/event/b1166357d95adb30041723612bfee9a
 5/2068
DTSTAMP:20260422T104256Z
CREATED:20230929T144548Z
LAST-MODIFIED:20230929T144548Z
X-MICROSOFT-CDO-ALLDAYEVENT:TRUE
END:VEVENT
END:VCALENDAR
