BEGIN:VCALENDAR
VERSION:2.0
PRODID:-//Microsoft Corporation//Outlook 16.0 MIMEDIR//FR
CALSCALE:GREGORIAN
METHOD:PUBLISH
X-WR-TIMEZONE:Europe/Monaco
X-MS-OLK-FORCEINSPECTOROPEN:"TRUE"
BEGIN:VTIMEZONE
TZID:Europe/Monaco
BEGIN:STANDARD
DTSTART:20231029T010000
TZOFFSETTO:+0100
TZOFFSETFROM:+0200
RRULE:FREQ=YEARLY;BYMONTH=11;BYDAY=1SU
END:STANDARD
BEGIN:DAYLIGHT
DTSTART:20230326T010000
TZOFFSETTO:+0200
TZOFFSETFROM:+0100
RRULE:FREQ=YEARLY;BYMONTH=3;BYDAY=2SU
END:DAYLIGHT
END:VTIMEZONE
BEGIN:VEVENT
UID:2067-d4b81d722aba329f0eb3212b29a823ad-principocket.com\n
DTSTART:20230324T190000
DTEND:20230324T190000
TRANSP:TRANSPARENT
IMAGE;VALUE=URI;DISPLAY=;FMTTYPE=image/png:https://app.monacoplatform.
 com/uploads/t0/t0NTTMQyXw.jpg
STATUS:CONFIRMED
SUMMARY:Teatro musicale - "A Corps Perdus"
DESCRIPTION:Venerdì 24 marzo 2023 alle 19\, Théâtre Princesse Grace
 \n\nDa lunedì 20 marzo 2023\, alcuni studenti del secondo anno dell'E
 cole Supérieure d'Arts Plastiques - Pavillon Bosio (ESAP) approderann
 o al Théâtre Princesse Grace per una settimana per preparare un nuov
 o progetto di teatro musicale. Al termine della settimana di residenza
 \, gli studenti dell'ESAP\, in collaborazione con i musicisti del Cons
 ervatorio di Nizza\, presenteranno un'esperienza teatrale e musicale i
 ntitolata "A corps perdus". Coordinato da Damien Sorrentino e Dominiqu
 e Drillot\, lo spettacolo vede protagonisti tre esploratori che viaggi
 ano attraverso mondi diversi e cercano di dialogare con le creature ch
 e li abitano. La loro ricerca? Trovare una forma di trascendenza per r
 aggiungere la vita eterna... Ingresso libero e gratuito.\n\n https://w
 ww.principocket.com/it/event/d4b81d722aba329f0eb3212b29a823ad/teatro-m
 usicale-a-corps-perdus
LOCATION:12\, avenue d'Ostende
URL:https://www.principocket.com/event/d4b81d722aba329f0eb3212b29a823a
 d/2067
DTSTAMP:20260420T184228Z
CREATED:20230324T075338Z
LAST-MODIFIED:20230324T075338Z
END:VEVENT
END:VCALENDAR
