BEGIN:VCALENDAR
VERSION:2.0
PRODID:-//Microsoft Corporation//Outlook 16.0 MIMEDIR//FR
CALSCALE:GREGORIAN
METHOD:PUBLISH
X-WR-TIMEZONE:Europe/Monaco
X-MS-OLK-FORCEINSPECTOROPEN:"TRUE"
BEGIN:VTIMEZONE
TZID:Europe/Monaco
BEGIN:STANDARD
DTSTART:20241027T010000
TZOFFSETTO:+0100
TZOFFSETFROM:+0200
RRULE:FREQ=YEARLY;BYMONTH=11;BYDAY=1SU
END:STANDARD
BEGIN:DAYLIGHT
DTSTART:20240331T010000
TZOFFSETTO:+0200
TZOFFSETFROM:+0100
RRULE:FREQ=YEARLY;BYMONTH=3;BYDAY=2SU
END:DAYLIGHT
END:VTIMEZONE
BEGIN:VEVENT
UID:2066-a99e2bd487f8a717d4c210490eb5a8a8-principocket.com\n
DTSTART:20230320T090000
DTEND:20240401T180000
TRANSP:TRANSPARENT
IMAGE;VALUE=URI;DISPLAY=;FMTTYPE=image/png:https://app.monacoplatform.
 com/uploads/Cc/CcNCvJrRVr.jpg
STATUS:CONFIRMED
SUMMARY:Mostra - "Alberto I - Un Prince Préhistorien"
DESCRIPTION:Da lunedì 20 marzo 2023 a domenica 31 marzo 2024\, dalle 
 9h alle 18h\, Museo di Antropologia preistorica\n\nScoprite il Princip
 e Alberto I in modo diverso! Incontrare un principe preistorico\, uno 
 scienziato e un uomo di campo\, per ripercorrere le sue esplorazioni a
 rcheologiche. Dalle grotte di Grimaldi alla Spagna\, dalla fondazione 
 del Museo di Antropologia Preistorica di Monaco all'Istituto di Paleon
 tologia Umana di Parigi\, i visitatori esploreranno gli emozionanti pe
 rcorsi delle avventure e delle riflessioni archeologiche di un princip
 e appassionato e affascinante.\n\n https://www.principocket.com/it/eve
 nt/a99e2bd487f8a717d4c210490eb5a8a8/mostra-alberto-i-un-prince-prehist
 orien
LOCATION:56 bis\, boulevard du Jardin Exotique
URL:https://www.principocket.com/event/a99e2bd487f8a717d4c210490eb5a8a
 8/2066
DTSTAMP:20260420T184348Z
CREATED:20240329T154131Z
LAST-MODIFIED:20240329T154131Z
END:VEVENT
END:VCALENDAR
