BEGIN:VCALENDAR
VERSION:2.0
PRODID:-//Microsoft Corporation//Outlook 16.0 MIMEDIR//FR
CALSCALE:GREGORIAN
METHOD:PUBLISH
X-WR-TIMEZONE:Europe/Monaco
X-MS-OLK-FORCEINSPECTOROPEN:"TRUE"
BEGIN:VTIMEZONE
TZID:Europe/Monaco
BEGIN:STANDARD
DTSTART:20231029T010000
TZOFFSETTO:+0100
TZOFFSETFROM:+0200
RRULE:FREQ=YEARLY;BYMONTH=11;BYDAY=1SU
END:STANDARD
BEGIN:DAYLIGHT
DTSTART:20230326T010000
TZOFFSETTO:+0200
TZOFFSETFROM:+0100
RRULE:FREQ=YEARLY;BYMONTH=3;BYDAY=2SU
END:DAYLIGHT
END:VTIMEZONE
BEGIN:VEVENT
UID:2065-46cc367f6979c4d54067eb3ed8a61af5-principocket.com\n
DTSTART:20230317T100000
DTEND:20230410T180000
TRANSP:TRANSPARENT
IMAGE;VALUE=URI;DISPLAY=;FMTTYPE=image/png:https://app.monacoplatform.
 com/uploads/px/px4KWHg2pz.jpg
STATUS:CONFIRMED
SUMMARY:Mostra - "Iryna Zubenko - The energy of life"
DESCRIPTION:Da venerdì 17 marzo a domenica 9 aprile 2023\, dalle 10 a
 lle 18\, Espace 22\n\nIryna Zubenko vi dà il benvenuto a una nuova mo
 stra presso ESPACE 22: L'energia della vita. "In un mondo materiale\, 
 la creazione e la creatività sono il risultato di un'energia profonda
 \, che non sospettiamo". Venite a scoprire e discutere una selezione d
 i dipinti ispirati dell'artista ucraina.\n\n https://www.principocket.
 com/it/event/46cc367f6979c4d54067eb3ed8a61af5/mostra-iryna-zubenko-the
 -energy-of-life
LOCATION:24 Bd d'Italie
URL:https://www.principocket.com/event/46cc367f6979c4d54067eb3ed8a61af
 5/2065
DTSTAMP:20260420T214435Z
CREATED:20230405T122220Z
LAST-MODIFIED:20230405T122220Z
END:VEVENT
END:VCALENDAR
