BEGIN:VCALENDAR
VERSION:2.0
PRODID:-//Microsoft Corporation//Outlook 16.0 MIMEDIR//FR
CALSCALE:GREGORIAN
METHOD:PUBLISH
X-WR-TIMEZONE:Europe/Monaco
X-MS-OLK-FORCEINSPECTOROPEN:"TRUE"
BEGIN:VTIMEZONE
TZID:Europe/Monaco
BEGIN:STANDARD
DTSTART:20231029T010000
TZOFFSETTO:+0100
TZOFFSETFROM:+0200
RRULE:FREQ=YEARLY;BYMONTH=11;BYDAY=1SU
END:STANDARD
BEGIN:DAYLIGHT
DTSTART:20230326T010000
TZOFFSETTO:+0200
TZOFFSETFROM:+0100
RRULE:FREQ=YEARLY;BYMONTH=3;BYDAY=2SU
END:DAYLIGHT
END:VTIMEZONE
BEGIN:VEVENT
UID:2064-d8e683d3a755670258e4d61ef36ed628-principocket.com\n
DTSTART:20230317T000000
DTEND:20230516T000000
TRANSP:TRANSPARENT
IMAGE;VALUE=URI;DISPLAY=;FMTTYPE=image/png:https://app.monacoplatform.
 com/uploads/T3/T3oRrXjy6o.jpg
STATUS:CONFIRMED
SUMMARY:Bando di partecipazione - Palcoscenico aperto del Fort Antoine
DESCRIPTION:Da venerdì 17 marzo a lunedì 15 maggio 2023\, Principato
  di Monaco\n\nPer continuare a dare visibilità ai giovani talenti del
  Principato e a potenziare i legami tra cultura e gioventù\, martedì
  18 luglio 2023 sarà organizzato un palcoscenico aperto per i giovani
  e dai giovani a Fort Antoine. Per i giovani prima di tutto\, poiché 
 permetterà a persone di età compresa tra i 18 e i 30 anni di rivelar
 e il proprio talento sul magico palcoscenico del Fort Antoine\, che si
  tratti di musica\, teatro o danza. Le modalità di partecipazione son
 o molto semplici: basta iscriversi entro il 15 maggio compilando un mo
 dulo online. Poi dai giovani\, perché proponiamo che un comitato di 5
  giovani (tra i 18 e i 30 anni) organizzi quest'iniziativa\, in collab
 orazione con le équipe del DAC. Dalla tecnica alla comunicazione\, da
 lla logistica alle scelte artistiche\, gestiranno tutti gli aspetti de
 ll'organizzazione di un evento culturale\, per farne un successo.\n\n 
 https://www.principocket.com/it/event/d8e683d3a755670258e4d61ef36ed628
 /bando-di-partecipazione-palcoscenico-aperto-del-fort-antoine
LOCATION:Monaco
URL:https://www.principocket.com/event/d8e683d3a755670258e4d61ef36ed62
 8/2064
DTSTAMP:20260420T231443Z
CREATED:20230515T101633Z
LAST-MODIFIED:20230515T101633Z
X-MICROSOFT-CDO-ALLDAYEVENT:TRUE
END:VEVENT
END:VCALENDAR
