BEGIN:VCALENDAR
VERSION:2.0
PRODID:-//Microsoft Corporation//Outlook 16.0 MIMEDIR//FR
CALSCALE:GREGORIAN
METHOD:PUBLISH
X-WR-TIMEZONE:Europe/Monaco
X-MS-OLK-FORCEINSPECTOROPEN:"TRUE"
BEGIN:VTIMEZONE
TZID:Europe/Monaco
BEGIN:STANDARD
DTSTART:20231029T010000
TZOFFSETTO:+0100
TZOFFSETFROM:+0200
RRULE:FREQ=YEARLY;BYMONTH=11;BYDAY=1SU
END:STANDARD
BEGIN:DAYLIGHT
DTSTART:20230326T010000
TZOFFSETTO:+0200
TZOFFSETFROM:+0100
RRULE:FREQ=YEARLY;BYMONTH=3;BYDAY=2SU
END:DAYLIGHT
END:VTIMEZONE
BEGIN:VEVENT
UID:2056-af6b9e5ce0feb648bf96d9f225582760-principocket.com\n
DTSTART:20230707T000000
DTEND:20230708T235900
TRANSP:TRANSPARENT
IMAGE;VALUE=URI;DISPLAY=;FMTTYPE=image/png:https://app.monacoplatform.
 com/uploads/Hh/HhupbsshhA.png
STATUS:CONFIRMED
SUMMARY:Kendji Girac sul palco di Monaco in occasione del 3° MC Summe
 r Concert
DESCRIPTION:Venerdì 7 luglio 2023\, alle \, Espace Léo Ferré\n\nIl 
 cantante e chitarrista Kendji Girac si esibirà sul palcoscenico dell'
 Espace Léo Ferré\, venerdì 7 luglio 2023\, per la terza edizione de
 ll'Mc Summer Concert*\, rivolto ai giovani monegaschi dai 13 ai 25 ann
 i (monegaschi\, residenti\, scolari o studenti del Principato).\n\n ht
 tps://www.principocket.com/it/event/af6b9e5ce0feb648bf96d9f225582760/k
 endji-girac-sul-palco-di-monaco-in-occasione-del-3-mc-summer-concert
LOCATION:25\, avenue Albert II
URL:https://www.principocket.com/event/af6b9e5ce0feb648bf96d9f22558276
 0/2056
DTSTAMP:20260425T160646Z
CREATED:20230320T160446Z
LAST-MODIFIED:20230320T160446Z
X-MICROSOFT-CDO-ALLDAYEVENT:TRUE
END:VEVENT
END:VCALENDAR
