BEGIN:VCALENDAR
VERSION:2.0
PRODID:-//Microsoft Corporation//Outlook 16.0 MIMEDIR//FR
CALSCALE:GREGORIAN
METHOD:PUBLISH
X-WR-TIMEZONE:Europe/Monaco
X-MS-OLK-FORCEINSPECTOROPEN:"TRUE"
BEGIN:VTIMEZONE
TZID:Europe/Monaco
BEGIN:STANDARD
DTSTART:20231029T010000
TZOFFSETTO:+0100
TZOFFSETFROM:+0200
RRULE:FREQ=YEARLY;BYMONTH=11;BYDAY=1SU
END:STANDARD
BEGIN:DAYLIGHT
DTSTART:20230326T010000
TZOFFSETTO:+0200
TZOFFSETFROM:+0100
RRULE:FREQ=YEARLY;BYMONTH=3;BYDAY=2SU
END:DAYLIGHT
END:VTIMEZONE
BEGIN:VEVENT
UID:2055-e80511b9da9634b66a72466a67a1ba29-principocket.com\n
DTSTART:20230915T000000
DTEND:20230918T000000
TRANSP:TRANSPARENT
IMAGE;VALUE=URI;DISPLAY=;FMTTYPE=image/png:https://app.monacoplatform.
 com/uploads/yO/yOIDYJ1fo8.jpg
STATUS:CONFIRMED
SUMMARY:Evento - "Rally Padre-figlio"
DESCRIPTION:Da venerdì 15 a domenica 17 settemnbre 2023\, Principato 
 di Monaco\n\nDalla sua prima edizione nel 2012\, il Rally Padre-Figlio
 ™ è entrato nella lista degli eventi imperdibili. Senza dubbio per 
 il suo concetto innovativo\, ma anche per l'approccio sincero che lo a
 ccompagna e per l'attenzione ai dettagli che ha fatto la nostra reputa
 zione da oltre 10 anni. Monaco è il punto di partenza e di arrivo\, p
 er cui gli equipaggi possono scoprire e vivere momenti indimenticabili
  nel Principato.\n\n https://www.principocket.com/it/event/e80511b9da9
 634b66a72466a67a1ba29/evento-rally-padre-figlio
LOCATION:Monaco
URL:https://www.principocket.com/event/e80511b9da9634b66a72466a67a1ba2
 9/2055
DTSTAMP:20260425T162654Z
CREATED:20230915T144524Z
LAST-MODIFIED:20230915T144524Z
X-MICROSOFT-CDO-ALLDAYEVENT:TRUE
END:VEVENT
END:VCALENDAR
