BEGIN:VCALENDAR
VERSION:2.0
PRODID:-//Microsoft Corporation//Outlook 16.0 MIMEDIR//FR
CALSCALE:GREGORIAN
METHOD:PUBLISH
X-WR-TIMEZONE:Europe/Monaco
X-MS-OLK-FORCEINSPECTOROPEN:"TRUE"
BEGIN:VTIMEZONE
TZID:Europe/Monaco
BEGIN:STANDARD
DTSTART:20231029T010000
TZOFFSETTO:+0100
TZOFFSETFROM:+0200
RRULE:FREQ=YEARLY;BYMONTH=11;BYDAY=1SU
END:STANDARD
BEGIN:DAYLIGHT
DTSTART:20230326T010000
TZOFFSETTO:+0200
TZOFFSETFROM:+0100
RRULE:FREQ=YEARLY;BYMONTH=3;BYDAY=2SU
END:DAYLIGHT
END:VTIMEZONE
BEGIN:VEVENT
UID:1865-f5ca4816b4424957df1f64fea2a93598-principocket.com\n
DTSTART:20230518T203000
DTEND:20230522T163000
TRANSP:TRANSPARENT
IMAGE;VALUE=URI;DISPLAY=;FMTTYPE=image/png:https://app.monacoplatform.
 com/uploads/Er/ErOz9asO3A.png
STATUS:CONFIRMED
SUMMARY:Naïs
DESCRIPTION:Da giovedì 18 a domenica 21 maggio 2023\, Théâtre des M
 uses\n\nContemporaneo\n\n https://www.principocket.com/it/event/f5ca48
 16b4424957df1f64fea2a93598/nais
LOCATION:45\, boulevard du Jardin Exotique
URL:https://www.principocket.com/event/f5ca4816b4424957df1f64fea2a9359
 8/1865
DTSTAMP:20260422T104047Z
CREATED:20230116T080958Z
LAST-MODIFIED:20230116T080958Z
END:VEVENT
END:VCALENDAR
