BEGIN:VCALENDAR
VERSION:2.0
PRODID:-//Microsoft Corporation//Outlook 16.0 MIMEDIR//FR
CALSCALE:GREGORIAN
METHOD:PUBLISH
X-WR-TIMEZONE:Europe/Monaco
X-MS-OLK-FORCEINSPECTOROPEN:"TRUE"
BEGIN:VTIMEZONE
TZID:Europe/Monaco
BEGIN:STANDARD
DTSTART:20231029T010000
TZOFFSETTO:+0100
TZOFFSETFROM:+0200
RRULE:FREQ=YEARLY;BYMONTH=11;BYDAY=1SU
END:STANDARD
BEGIN:DAYLIGHT
DTSTART:20230326T010000
TZOFFSETTO:+0200
TZOFFSETFROM:+0100
RRULE:FREQ=YEARLY;BYMONTH=3;BYDAY=2SU
END:DAYLIGHT
END:VTIMEZONE
BEGIN:VEVENT
UID:1863-8be3980760ba0e5306528261b28e7213-principocket.com\n
DTSTART:20230504T203000
DTEND:20230508T163000
TRANSP:TRANSPARENT
IMAGE;VALUE=URI;DISPLAY=;FMTTYPE=image/png:https://app.monacoplatform.
 com/uploads/WK/WKB6myCnCH.png
STATUS:CONFIRMED
SUMMARY:Signorina Gabrielle Chanel
DESCRIPTION:Da giovedì 4 a domenica 7 maggio 2023\, Théâtre des Mus
 es\n\nMusica e teatro\n\n https://www.principocket.com/it/event/8be398
 0760ba0e5306528261b28e7213/signorina-gabrielle-chanel
LOCATION:45\, boulevard du Jardin Exotique
URL:https://www.principocket.com/event/8be3980760ba0e5306528261b28e721
 3/1863
DTSTAMP:20260422T154212Z
CREATED:20230116T080951Z
LAST-MODIFIED:20230116T080951Z
END:VEVENT
END:VCALENDAR
