BEGIN:VCALENDAR
VERSION:2.0
PRODID:-//Microsoft Corporation//Outlook 16.0 MIMEDIR//FR
CALSCALE:GREGORIAN
METHOD:PUBLISH
X-WR-TIMEZONE:Europe/Monaco
X-MS-OLK-FORCEINSPECTOROPEN:"TRUE"
BEGIN:VTIMEZONE
TZID:Europe/Monaco
BEGIN:STANDARD
DTSTART:20231029T010000
TZOFFSETTO:+0100
TZOFFSETFROM:+0200
RRULE:FREQ=YEARLY;BYMONTH=11;BYDAY=1SU
END:STANDARD
BEGIN:DAYLIGHT
DTSTART:20230326T010000
TZOFFSETTO:+0200
TZOFFSETFROM:+0100
RRULE:FREQ=YEARLY;BYMONTH=3;BYDAY=2SU
END:DAYLIGHT
END:VTIMEZONE
BEGIN:VEVENT
UID:1842-4b011676d864dc96cebdfe495161af29-principocket.com\n
DTSTART:20230623T200000
DTEND:20230623T200000
TRANSP:TRANSPARENT
IMAGE;VALUE=URI;DISPLAY=;FMTTYPE=image/png:https://app.monacoplatform.
 com/uploads/6e/6eNTD9Wl8V.jpg
STATUS:CONFIRMED
SUMMARY:Concerto- "Musica da camera"
DESCRIPTION:Venerdì 23 giugno 2023 alle 20\, Auditorium Rainier III\n
 \nStagione 22/23 dell'Orchestra Filarmonica di Monte-Carlo\, Sotto la 
 Presidenza di S.A.R. la Principessa di Hannover - "Musica da camera" c
 on Renaud Capuçon (violino)\, Trio Zeliha : Manon Galy\, Maxime Quenn
 esson e Jorge González Buajasán (violino\, violoncello e pianoforte)
 \, e Violaine Despeyroux (viola). In programma: Fauré\, Franck e Rave
 l.\n\n https://www.principocket.com/it/event/4b011676d864dc96cebdfe495
 161af29/concerto-musica-da-camera
LOCATION:Boulevard Louis II
URL:https://www.principocket.com/event/4b011676d864dc96cebdfe495161af2
 9/1842
DTSTAMP:20260420T130044Z
CREATED:20230623T115922Z
LAST-MODIFIED:20230623T115922Z
END:VEVENT
END:VCALENDAR
