BEGIN:VCALENDAR
VERSION:2.0
PRODID:-//Microsoft Corporation//Outlook 16.0 MIMEDIR//FR
CALSCALE:GREGORIAN
METHOD:PUBLISH
X-WR-TIMEZONE:Europe/Monaco
X-MS-OLK-FORCEINSPECTOROPEN:"TRUE"
BEGIN:VTIMEZONE
TZID:Europe/Monaco
BEGIN:STANDARD
DTSTART:20231029T010000
TZOFFSETTO:+0100
TZOFFSETFROM:+0200
RRULE:FREQ=YEARLY;BYMONTH=11;BYDAY=1SU
END:STANDARD
BEGIN:DAYLIGHT
DTSTART:20230326T010000
TZOFFSETTO:+0200
TZOFFSETFROM:+0100
RRULE:FREQ=YEARLY;BYMONTH=3;BYDAY=2SU
END:DAYLIGHT
END:VTIMEZONE
BEGIN:VEVENT
UID:1773-4f33dfb4682d41cad60b9c02bcb7c47b-principocket.com\n
DTSTART:20230509T200000
DTEND:20230509T200000
TRANSP:TRANSPARENT
IMAGE;VALUE=URI;DISPLAY=;FMTTYPE=image/png:https://app.monacoplatform.
 com/uploads/5L/5LEQusZclX.jpg
STATUS:CONFIRMED
SUMMARY:Tutta l'arte del cinema - "L'Enigmatique Monsieur D." (titolo 
 italiano "Spionaggio internazionale"
DESCRIPTION:Martedì 9 maggio 2023 alle 20\, Théâtre des Variétés\
 n\nMonaco en Films - L'enigmatico signor D. di Sheldon Reynolds (1956)
  (titolo italiano "Spionaggio internazionale". Una serie B che riprend
 e Mitchum da Monaco a Stoccolma\, con spie ad ogni angolo di strada. I
 mperdibile. Organizzato dall'Istituto Audiovisivo di Monaco.\n\n https
 ://www.principocket.com/it/event/4f33dfb4682d41cad60b9c02bcb7c47b/tutt
 a-l-arte-del-cinema-l-enigmatique-monsieur-d-titolo-italiano-spionaggi
 o-internazionale
LOCATION:1\, boulevard Albert Ier
URL:https://www.principocket.com/event/4f33dfb4682d41cad60b9c02bcb7c47
 b/1773
DTSTAMP:20260424T091238Z
CREATED:20230509T155446Z
LAST-MODIFIED:20230509T155446Z
END:VEVENT
END:VCALENDAR
