BEGIN:VCALENDAR
VERSION:2.0
PRODID:-//Microsoft Corporation//Outlook 16.0 MIMEDIR//FR
CALSCALE:GREGORIAN
METHOD:PUBLISH
X-WR-TIMEZONE:Europe/Monaco
X-MS-OLK-FORCEINSPECTOROPEN:"TRUE"
BEGIN:VTIMEZONE
TZID:Europe/Monaco
BEGIN:STANDARD
DTSTART:20231029T010000
TZOFFSETTO:+0100
TZOFFSETFROM:+0200
RRULE:FREQ=YEARLY;BYMONTH=11;BYDAY=1SU
END:STANDARD
BEGIN:DAYLIGHT
DTSTART:20230326T010000
TZOFFSETTO:+0200
TZOFFSETFROM:+0100
RRULE:FREQ=YEARLY;BYMONTH=3;BYDAY=2SU
END:DAYLIGHT
END:VTIMEZONE
BEGIN:VEVENT
UID:1698-f858e8cdbfed915b004c184e9378cfa0-principocket.com\n
DTSTART:20230321T200000
DTEND:20230321T200000
TRANSP:TRANSPARENT
IMAGE;VALUE=URI;DISPLAY=;FMTTYPE=image/png:https://app.monacoplatform.
 com/uploads/BJ/BJGD-b-iCk.jpg
STATUS:CONFIRMED
SUMMARY:Tutta l'arte del cinema - "Anatomie d'un rapport"
DESCRIPTION:Martedì 21 marzo 2023 alle 20\, Théâtre des Variétés\
 n\nI Martedì del Cinema - "Anatomie d'un rapport" di Luc Moullet (197
 6). Divertente e tragico allo stesso tempo\, banale e straordinario\, 
 questo film-documentario ci parla di sessualità in modo sorprendentem
 ente libero. Organizzato dall'Istituto Audiovisivo di Monaco.\n\n http
 s://www.principocket.com/it/event/f858e8cdbfed915b004c184e9378cfa0/tut
 ta-l-arte-del-cinema-anatomie-d-un-rapport
LOCATION:1\, boulevard Albert Ier
URL:https://www.principocket.com/event/f858e8cdbfed915b004c184e9378cfa
 0/1698
DTSTAMP:20260420T140709Z
CREATED:20230315T164548Z
LAST-MODIFIED:20230315T164548Z
END:VEVENT
END:VCALENDAR
