BEGIN:VCALENDAR
VERSION:2.0
PRODID:-//Microsoft Corporation//Outlook 16.0 MIMEDIR//FR
CALSCALE:GREGORIAN
METHOD:PUBLISH
X-WR-TIMEZONE:Europe/Monaco
X-MS-OLK-FORCEINSPECTOROPEN:"TRUE"
BEGIN:VTIMEZONE
TZID:Europe/Monaco
BEGIN:STANDARD
DTSTART:20231029T010000
TZOFFSETTO:+0100
TZOFFSETFROM:+0200
RRULE:FREQ=YEARLY;BYMONTH=11;BYDAY=1SU
END:STANDARD
BEGIN:DAYLIGHT
DTSTART:20230326T010000
TZOFFSETTO:+0200
TZOFFSETFROM:+0100
RRULE:FREQ=YEARLY;BYMONTH=3;BYDAY=2SU
END:DAYLIGHT
END:VTIMEZONE
BEGIN:VEVENT
UID:1695-7ef659bbbbb191a99b3fe4792d896866-principocket.com\n
DTSTART:20230319T150000
DTEND:20230319T150000
TRANSP:TRANSPARENT
IMAGE;VALUE=URI;DISPLAY=;FMTTYPE=image/png:https://app.monacoplatform.
 com/uploads/Ol/Olai85qUy0.jpg
STATUS:CONFIRMED
SUMMARY:Opera di Monte-Carlo - "La traviata"
DESCRIPTION:Domenica 19 marzo 2023 alle 15\, Opera di Monte-Carlo - Sa
 lle Garnier\n\nOpera di Monte-Carlo\, stagione 2023 - La traviata di V
 erdi. Opera\, direzione musicale Massimo Zanetti\, scenografia Jean-Lo
 uis Grinda.\n\n https://www.principocket.com/it/event/7ef659bbbbb191a9
 9b3fe4792d896866/opera-di-monte-carlo-la-traviata
LOCATION:Place du Casino
URL:https://www.principocket.com/event/7ef659bbbbb191a99b3fe4792d89686
 6/1695
DTSTAMP:20260424T154249Z
CREATED:20230315T164548Z
LAST-MODIFIED:20230315T164548Z
END:VEVENT
END:VCALENDAR
