BEGIN:VCALENDAR
VERSION:2.0
PRODID:-//Microsoft Corporation//Outlook 16.0 MIMEDIR//FR
CALSCALE:GREGORIAN
METHOD:PUBLISH
X-WR-TIMEZONE:Europe/Monaco
X-MS-OLK-FORCEINSPECTOROPEN:"TRUE"
BEGIN:VTIMEZONE
TZID:Europe/Monaco
BEGIN:STANDARD
DTSTART:20221030T010000
TZOFFSETTO:+0100
TZOFFSETFROM:+0200
RRULE:FREQ=YEARLY;BYMONTH=11;BYDAY=1SU
END:STANDARD
BEGIN:DAYLIGHT
DTSTART:20220327T010000
TZOFFSETTO:+0200
TZOFFSETFROM:+0100
RRULE:FREQ=YEARLY;BYMONTH=3;BYDAY=2SU
END:DAYLIGHT
END:VTIMEZONE
BEGIN:VEVENT
UID:1651-d56852700a118e5da49d34adc2b02543-principocket.com\n
DTSTART:20221216T193000
DTEND:20221216T193000
TRANSP:TRANSPARENT
IMAGE;VALUE=URI;DISPLAY=;FMTTYPE=image/png:https://app.monacoplatform.
 com/uploads/p3/p3DZ1e0eu6.jpg
STATUS:CONFIRMED
SUMMARY:Monaco Dance Forum - "Sonoma"
DESCRIPTION:Venerdì 16 dicembre 2022 alle ore 19.30\, Grimaldi Forum 
 Monaco\n\nMonaco Dance Forum - Dal greco soma (corpo) e dal latino son
 um (suono)\, Sonoma è il suono del corpo che cade\, la rabbia provata
  dagli esseri umani convinti di essere vivi e vegeti... Dopo il succes
 so di Siena presentato al Monaco Dance Forum nel 2014\, Marcos Morau e
  la Compagnie La Veronal tornano nel Principato con un nuovo spettacol
 o di grande impatto.\n\n https://www.principocket.com/it/event/d568527
 00a118e5da49d34adc2b02543/monaco-dance-forum-sonoma
LOCATION:10\, avenue Princesse Grace
URL:https://www.principocket.com/event/d56852700a118e5da49d34adc2b0254
 3/1651
DTSTAMP:20260424T155857Z
CREATED:20221215T093823Z
LAST-MODIFIED:20221215T093823Z
END:VEVENT
END:VCALENDAR
