BEGIN:VCALENDAR
VERSION:2.0
PRODID:-//Microsoft Corporation//Outlook 16.0 MIMEDIR//FR
CALSCALE:GREGORIAN
METHOD:PUBLISH
X-WR-TIMEZONE:Europe/Monaco
X-MS-OLK-FORCEINSPECTOROPEN:"TRUE"
BEGIN:VTIMEZONE
TZID:Europe/Monaco
BEGIN:STANDARD
DTSTART:20221030T010000
TZOFFSETTO:+0100
TZOFFSETFROM:+0200
RRULE:FREQ=YEARLY;BYMONTH=11;BYDAY=1SU
END:STANDARD
BEGIN:DAYLIGHT
DTSTART:20220327T010000
TZOFFSETTO:+0200
TZOFFSETFROM:+0100
RRULE:FREQ=YEARLY;BYMONTH=3;BYDAY=2SU
END:DAYLIGHT
END:VTIMEZONE
BEGIN:VEVENT
UID:1650-f14ec127f91662ed379a66f904fc8fba-principocket.com\n
DTSTART:20221215T140000
DTEND:20221215T140000
TRANSP:TRANSPARENT
IMAGE;VALUE=URI;DISPLAY=;FMTTYPE=image/png:https://app.monacoplatform.
 com/uploads/WB/WB3MxsdcDr.jpg
STATUS:CONFIRMED
SUMMARY:I Balletti di Monte-Carlo - "Diversi... E allora?"
DESCRIPTION:Giovedì 15 dicembre 2022 alle 14.00\, Grimaldi Forum Mona
 co\n\nMonaco Dance Forum - 6e sens Compagnie e Dk-Bel propongono una r
 iflessione sensibile sulla disabilità.\nProiezioni e spettacoli ci in
 vitano a condividere i loro valori fondamentali: il superamento dei pr
 egiudizi e il rapportarsi con il prossimo\, indipendentemente da ciò 
 che ci distingue. Un momento emozionante e ricco di insegnamenti.\n\n 
 https://www.principocket.com/it/event/f14ec127f91662ed379a66f904fc8fba
 /i-balletti-di-monte-carlo-diversi-e-allora
LOCATION:10\, avenue Princesse Grace
URL:https://www.principocket.com/event/f14ec127f91662ed379a66f904fc8fb
 a/1650
DTSTAMP:20260424T143752Z
CREATED:20221017T072123Z
LAST-MODIFIED:20221017T072123Z
END:VEVENT
END:VCALENDAR
