BEGIN:VCALENDAR
VERSION:2.0
PRODID:-//Microsoft Corporation//Outlook 16.0 MIMEDIR//FR
CALSCALE:GREGORIAN
METHOD:PUBLISH
X-WR-TIMEZONE:Europe/Monaco
X-MS-OLK-FORCEINSPECTOROPEN:"TRUE"
BEGIN:VTIMEZONE
TZID:Europe/Monaco
BEGIN:STANDARD
DTSTART:20221030T010000
TZOFFSETTO:+0100
TZOFFSETFROM:+0200
RRULE:FREQ=YEARLY;BYMONTH=11;BYDAY=1SU
END:STANDARD
BEGIN:DAYLIGHT
DTSTART:20220327T010000
TZOFFSETTO:+0200
TZOFFSETFROM:+0100
RRULE:FREQ=YEARLY;BYMONTH=3;BYDAY=2SU
END:DAYLIGHT
END:VTIMEZONE
BEGIN:VEVENT
UID:1648-69156ac4e9edc5e881dbec5655f9243e-principocket.com\n
DTSTART:20221213T200000
DTEND:20221213T200000
TRANSP:TRANSPARENT
IMAGE;VALUE=URI;DISPLAY=;FMTTYPE=image/png:https://app.monacoplatform.
 com/uploads/PA/PAxhHHdJIa.jpg
STATUS:CONFIRMED
SUMMARY:Tutta l'Arte del Cinema - "Les Gens de Dublin" (ndt, titolo it
 aliano "Gente di Dublino")
DESCRIPTION:Martedì 13 dicembre 2022 alle 20\, Théâtre des Variét
 és\n\nI martedì del cinema "Il film di Natale" - Gente di Dublino (1
 988) di John Huston. Come la sua eroina\, John Huston aveva un segreto
  ben nascosto: una sottile sensibilità che permea questo film inaspet
 tato e commovente. Organizzato dall'Istituto Audiovisivo di Monaco.\n\
 n https://www.principocket.com/it/event/69156ac4e9edc5e881dbec5655f924
 3e/tutta-l-arte-del-cinema-les-gens-de-dublin-ndt-titolo-italiano-gent
 e-di-dublino
LOCATION:1\, boulevard Albert Ier
URL:https://www.principocket.com/event/69156ac4e9edc5e881dbec5655f9243
 e/1648
DTSTAMP:20260424T123945Z
CREATED:20221116T112223Z
LAST-MODIFIED:20221116T112223Z
END:VEVENT
END:VCALENDAR
