BEGIN:VCALENDAR
VERSION:2.0
PRODID:-//Microsoft Corporation//Outlook 16.0 MIMEDIR//FR
CALSCALE:GREGORIAN
METHOD:PUBLISH
X-WR-TIMEZONE:Europe/Monaco
X-MS-OLK-FORCEINSPECTOROPEN:"TRUE"
BEGIN:VTIMEZONE
TZID:Europe/Monaco
BEGIN:STANDARD
DTSTART:20221030T010000
TZOFFSETTO:+0100
TZOFFSETFROM:+0200
RRULE:FREQ=YEARLY;BYMONTH=11;BYDAY=1SU
END:STANDARD
BEGIN:DAYLIGHT
DTSTART:20220327T010000
TZOFFSETTO:+0200
TZOFFSETFROM:+0100
RRULE:FREQ=YEARLY;BYMONTH=3;BYDAY=2SU
END:DAYLIGHT
END:VTIMEZONE
BEGIN:VEVENT
UID:1647-88d1521927bb17ed3c9630522dbc8d61-principocket.com\n
DTSTART:20221211T170000
DTEND:20221211T170000
TRANSP:TRANSPARENT
IMAGE;VALUE=URI;DISPLAY=;FMTTYPE=image/png:https://app.monacoplatform.
 com/uploads/mb/mb51Vri69H.jpg
STATUS:CONFIRMED
SUMMARY:Teatro - "La Famiglia e l'Orto"
DESCRIPTION:Domenica 11 dicembre 2022 alle 17\, Grimaldi Forum Monaco\
 n\nMarie e Denis si amano da quarant'anni. E' bellissimo... Ma grazie 
 al figlio Tom\, le cose stanno per cambiare. Ha commesso un errore. Un
 a di quelle che possono cambiare i cinquant'anni successivi di una vit
 a. Di Bob Martet\, regia di Anne Bourgeois\, con Marie-Anne Chazel\, R
 égis Laspalès\, Jean-Baptiste Shelmerdine\, Emma Gamet e Caroline Ma
 illard.\n\n https://www.principocket.com/it/event/88d1521927bb17ed3c96
 30522dbc8d61/teatro-la-famiglia-e-l-orto
LOCATION:10\, avenue Princesse Grace
URL:https://www.principocket.com/event/88d1521927bb17ed3c9630522dbc8d6
 1/1647
DTSTAMP:20260422T172007Z
CREATED:20221116T112223Z
LAST-MODIFIED:20221116T112223Z
END:VEVENT
END:VCALENDAR
