BEGIN:VCALENDAR
VERSION:2.0
PRODID:-//Microsoft Corporation//Outlook 16.0 MIMEDIR//FR
CALSCALE:GREGORIAN
METHOD:PUBLISH
X-WR-TIMEZONE:Europe/Monaco
X-MS-OLK-FORCEINSPECTOROPEN:"TRUE"
BEGIN:VTIMEZONE
TZID:Europe/Monaco
BEGIN:STANDARD
DTSTART:20221030T010000
TZOFFSETTO:+0100
TZOFFSETFROM:+0200
RRULE:FREQ=YEARLY;BYMONTH=11;BYDAY=1SU
END:STANDARD
BEGIN:DAYLIGHT
DTSTART:20220327T010000
TZOFFSETTO:+0200
TZOFFSETFROM:+0100
RRULE:FREQ=YEARLY;BYMONTH=3;BYDAY=2SU
END:DAYLIGHT
END:VTIMEZONE
BEGIN:VEVENT
UID:1628-8f7803d6259c3f8141e97712038afef0-principocket.com\n
DTSTART:20221123T203000
DTEND:20221123T203000
TRANSP:TRANSPARENT
IMAGE;VALUE=URI;DISPLAY=;FMTTYPE=image/png:https://app.monacoplatform.
 com/uploads/Ia/IaxBSp-BWJ.jpg
STATUS:CONFIRMED
SUMMARY:Concerto - "Jeffro Tull"
DESCRIPTION:Mercoledì 23 novembre 2022 alle 20.30\, Opéra di Monte-C
 arlo - Salle Garnier\n\nMonte-Carlo Jazz Festival 2022 - Ian Anderson 
 e il gruppo Jethro Tull\, uno dei gruppi di Rock Progressif più famos
 i al mondo\, annunciano il loro ritorno sul palcoscenico con la loro t
 ournée "The Prog Years Tour".\n\n https://www.principocket.com/it/eve
 nt/8f7803d6259c3f8141e97712038afef0/concerto-jeffro-tull
LOCATION:Place du Casino
URL:https://www.principocket.com/event/8f7803d6259c3f8141e97712038afef
 0/1628
DTSTAMP:20260419T164302Z
CREATED:20221116T112222Z
LAST-MODIFIED:20221116T112222Z
END:VEVENT
END:VCALENDAR
