BEGIN:VCALENDAR
VERSION:2.0
PRODID:-//Microsoft Corporation//Outlook 16.0 MIMEDIR//FR
CALSCALE:GREGORIAN
METHOD:PUBLISH
X-WR-TIMEZONE:Europe/Monaco
X-MS-OLK-FORCEINSPECTOROPEN:"TRUE"
BEGIN:VTIMEZONE
TZID:Europe/Monaco
BEGIN:STANDARD
DTSTART:20221030T010000
TZOFFSETTO:+0100
TZOFFSETFROM:+0200
RRULE:FREQ=YEARLY;BYMONTH=11;BYDAY=1SU
END:STANDARD
BEGIN:DAYLIGHT
DTSTART:20220327T010000
TZOFFSETTO:+0200
TZOFFSETFROM:+0100
RRULE:FREQ=YEARLY;BYMONTH=3;BYDAY=2SU
END:DAYLIGHT
END:VTIMEZONE
BEGIN:VEVENT
UID:1627-0a989482639880447edb8276ac4736f4-principocket.com\n
DTSTART:20221122T200000
DTEND:20221122T200000
TRANSP:TRANSPARENT
IMAGE;VALUE=URI;DISPLAY=;FMTTYPE=image/png:https://app.monacoplatform.
 com/uploads/gt/gt26XUZeYn.jpg
STATUS:CONFIRMED
SUMMARY:Tutta l'Arte del Cinema - "Le Cabinet du Docteur Caligari" (nd
 t, titolo italiano "Il Gabinetto del Dottor Caligari")
DESCRIPTION:Martedì 22 novembre 2022 alle 20\, Opera di Monte-Carlo -
  Salle Garnier\n\nCine-concerto - Le Cabinet du Docteur Caligari (ndt\
 , titolo italiano "Il Gabinetto del dottor Caligari") di Robert Wiene 
 (1920). Manifesto del cinema espressionista tedesco\, intrigante e pro
 fetico\, Caligari viene proposto in versione orchestrale. A cura dell'
 Istituto Audiovisivo di Monaco\, in collaborazione con l'Orchestra Fil
 armonica di Monte-Carlo.\n\n https://www.principocket.com/it/event/0a9
 89482639880447edb8276ac4736f4/tutta-l-arte-del-cinema-le-cabinet-du-do
 cteur-caligari-ndt-titolo-italiano-il-gabinetto-del-dottor-caligari
LOCATION:Place du Casino
URL:https://www.principocket.com/event/0a989482639880447edb8276ac4736f
 4/1627
DTSTAMP:20260419T150956Z
CREATED:20221116T112222Z
LAST-MODIFIED:20221116T112222Z
END:VEVENT
END:VCALENDAR
