BEGIN:VCALENDAR
VERSION:2.0
PRODID:-//Microsoft Corporation//Outlook 16.0 MIMEDIR//FR
CALSCALE:GREGORIAN
METHOD:PUBLISH
X-WR-TIMEZONE:Europe/Monaco
X-MS-OLK-FORCEINSPECTOROPEN:"TRUE"
BEGIN:VTIMEZONE
TZID:Europe/Monaco
BEGIN:STANDARD
DTSTART:20221030T010000
TZOFFSETTO:+0100
TZOFFSETFROM:+0200
RRULE:FREQ=YEARLY;BYMONTH=11;BYDAY=1SU
END:STANDARD
BEGIN:DAYLIGHT
DTSTART:20220327T010000
TZOFFSETTO:+0200
TZOFFSETFROM:+0100
RRULE:FREQ=YEARLY;BYMONTH=3;BYDAY=2SU
END:DAYLIGHT
END:VTIMEZONE
BEGIN:VEVENT
UID:1626-9ec6ed70d9bab1a49f12fbf6fc20a15c-principocket.com\n
DTSTART:20221121T183000
DTEND:20221121T183000
TRANSP:TRANSPARENT
IMAGE;VALUE=URI;DISPLAY=;FMTTYPE=image/png:https://app.monacoplatform.
 com/uploads/ZK/ZK4CiT23us.jpg
STATUS:CONFIRMED
SUMMARY:Conferenza - "I musei e l'avventura marittima: come far vibrar
 e le collezioni".
DESCRIPTION:Lunedì  21 novembre 2022 alle 18.30\, Théâtre des Vari
 étés\n\nL'Associazione monegasca per la Conoscenza delle Arti ha il 
 piacere di presentarvi le 5 conferenze del ciclo "Desiderio di avventu
 re" - "I musei e l'avventura marittima: come far  vibrare le collezion
 i"\, Vincent BOUAT-FERLIER\, Sovrintendente al Patrimonio\, Direttore 
 scientifico del museo nazionale della Marina.\n\n https://www.principo
 cket.com/it/event/9ec6ed70d9bab1a49f12fbf6fc20a15c/conferenza-i-musei-
 e-l-avventura-marittima-come-far-vibrare-le-collezioni
LOCATION:1\, boulevard Albert Ier
URL:https://www.principocket.com/event/9ec6ed70d9bab1a49f12fbf6fc20a15
 c/1626
DTSTAMP:20260419T211718Z
CREATED:20221116T112222Z
LAST-MODIFIED:20221116T112222Z
END:VEVENT
END:VCALENDAR
