BEGIN:VCALENDAR
VERSION:2.0
PRODID:-//Microsoft Corporation//Outlook 16.0 MIMEDIR//FR
CALSCALE:GREGORIAN
METHOD:PUBLISH
X-WR-TIMEZONE:Europe/Monaco
X-MS-OLK-FORCEINSPECTOROPEN:"TRUE"
BEGIN:VTIMEZONE
TZID:Europe/Monaco
BEGIN:STANDARD
DTSTART:20231029T010000
TZOFFSETTO:+0100
TZOFFSETFROM:+0200
RRULE:FREQ=YEARLY;BYMONTH=11;BYDAY=1SU
END:STANDARD
BEGIN:DAYLIGHT
DTSTART:20230326T010000
TZOFFSETTO:+0200
TZOFFSETFROM:+0100
RRULE:FREQ=YEARLY;BYMONTH=3;BYDAY=2SU
END:DAYLIGHT
END:VTIMEZONE
BEGIN:VEVENT
UID:1578-bab7ed17c4654e3d7e510c3d15bd3742-principocket.com\n
DTSTART:20230208T150000
DTEND:20230208T150000
TRANSP:TRANSPARENT
IMAGE;VALUE=URI;DISPLAY=;FMTTYPE=image/png:https://app.monacoplatform.
 com/uploads/5f/5f2gP5GBo_.jpg
STATUS:CONFIRMED
SUMMARY:Concerto Giovane Pubblico - "L’Orchestra, cerca e trova atto
 rno al mondo"
DESCRIPTION:Mercoledì 8 febbraio 2023 alle 15\, Auditorium Rainier II
 I\n\nStagione 22/23 dell'Orchestra Filarmonica di Monte-Carlo\, sotto 
 la presidenza di S.A.R. la Principessa di Hannover- "L’Orchestra\, c
 erca e trova attorno al mondo" con Fiona Monbet (direzione d'orchestra
 )\, Chloé Perarnau (illustratrice)\, Margot Alexandre (commediante). 
 In programma: Rachel Leach & le London Philharmonic Orchestra.\n\n htt
 ps://www.principocket.com/it/event/bab7ed17c4654e3d7e510c3d15bd3742/co
 ncerto-giovane-pubblico-l-orchestra-cerca-e-trova-attorno-al-mondo
LOCATION:Boulevard Louis II
URL:https://www.principocket.com/event/bab7ed17c4654e3d7e510c3d15bd374
 2/1578
DTSTAMP:20260420T123708Z
CREATED:20230206T092436Z
LAST-MODIFIED:20230206T092436Z
END:VEVENT
END:VCALENDAR
