BEGIN:VCALENDAR
VERSION:2.0
PRODID:-//Microsoft Corporation//Outlook 16.0 MIMEDIR//FR
CALSCALE:GREGORIAN
METHOD:PUBLISH
X-WR-TIMEZONE:Europe/Monaco
X-MS-OLK-FORCEINSPECTOROPEN:"TRUE"
BEGIN:VTIMEZONE
TZID:Europe/Monaco
BEGIN:STANDARD
DTSTART:20221030T010000
TZOFFSETTO:+0100
TZOFFSETFROM:+0200
RRULE:FREQ=YEARLY;BYMONTH=11;BYDAY=1SU
END:STANDARD
BEGIN:DAYLIGHT
DTSTART:20220327T010000
TZOFFSETTO:+0200
TZOFFSETFROM:+0100
RRULE:FREQ=YEARLY;BYMONTH=3;BYDAY=2SU
END:DAYLIGHT
END:VTIMEZONE
BEGIN:VEVENT
UID:1541-04ac245b6336c35a06049f979a3066de-principocket.com\n
DTSTART:20221217T200000
DTEND:20221217T200000
TRANSP:TRANSPARENT
IMAGE;VALUE=URI;DISPLAY=;FMTTYPE=image/png:https://app.monacoplatform.
 com/uploads/at/atYRpYPxdP.jpg
STATUS:CONFIRMED
SUMMARY:Concerto- "Recital Piotr Anderszewski"
DESCRIPTION:Sabato 17 dicembre 2022 alle 20\, Auditorium Rainier III\n
 \nStagione 22/23 dell'Orchestra Filarmonica di Monte-Carlo\, Sotto la 
 Presidenza di S.A.R. la Principessa di Hannover - "Recital Piotr Ander
 szewski" con Piotr Anderszewski (pianoforte). In programma: Bach e Bee
 thoven.\n\n https://www.principocket.com/it/event/04ac245b6336c35a0604
 9f979a3066de/concerto-recital-piotr-anderszewski
LOCATION:Boulevard Louis II
URL:https://www.principocket.com/event/04ac245b6336c35a06049f979a3066d
 e/1541
DTSTAMP:20260424T124547Z
CREATED:20221215T093823Z
LAST-MODIFIED:20221215T093823Z
END:VEVENT
END:VCALENDAR
