BEGIN:VCALENDAR
VERSION:2.0
PRODID:-//Microsoft Corporation//Outlook 16.0 MIMEDIR//FR
CALSCALE:GREGORIAN
METHOD:PUBLISH
X-WR-TIMEZONE:Europe/Monaco
X-MS-OLK-FORCEINSPECTOROPEN:"TRUE"
BEGIN:VTIMEZONE
TZID:Europe/Monaco
BEGIN:STANDARD
DTSTART:20221030T010000
TZOFFSETTO:+0100
TZOFFSETFROM:+0200
RRULE:FREQ=YEARLY;BYMONTH=11;BYDAY=1SU
END:STANDARD
BEGIN:DAYLIGHT
DTSTART:20220327T010000
TZOFFSETTO:+0200
TZOFFSETFROM:+0100
RRULE:FREQ=YEARLY;BYMONTH=3;BYDAY=2SU
END:DAYLIGHT
END:VTIMEZONE
BEGIN:VEVENT
UID:1539-f77d3b52fbd2235ddf5b46424040ab33-principocket.com\n
DTSTART:20221214T190000
DTEND:20221214T190000
TRANSP:TRANSPARENT
IMAGE;VALUE=URI;DISPLAY=;FMTTYPE=image/png:https://app.monacoplatform.
 com/uploads/Z0/Z0D_5pSBYm.jpg
STATUS:CONFIRMED
SUMMARY:Turkish Airlines EuroLeague - "AS Monaco - FC Barcelona"
DESCRIPTION:Mercoledì 14 dicembre 2022 alle 19\, Salle Omnisports Gas
 ton Médecin - Stadio Louis II\n\nTurkish Airlines EuroLeague di Baske
 t : AS Monaco Roca Team - FC Barcelona\n\n https://www.principocket.co
 m/it/event/f77d3b52fbd2235ddf5b46424040ab33/turkish-airlines-euroleagu
 e-as-monaco-fc-barcelona
LOCATION:Stade Louis II
URL:https://www.principocket.com/event/f77d3b52fbd2235ddf5b46424040ab3
 3/1539
DTSTAMP:20260424T161240Z
CREATED:20230103T082428Z
LAST-MODIFIED:20230103T082428Z
END:VEVENT
END:VCALENDAR
