BEGIN:VCALENDAR
VERSION:2.0
PRODID:-//Microsoft Corporation//Outlook 16.0 MIMEDIR//FR
CALSCALE:GREGORIAN
METHOD:PUBLISH
X-WR-TIMEZONE:Europe/Monaco
X-MS-OLK-FORCEINSPECTOROPEN:"TRUE"
BEGIN:VTIMEZONE
TZID:Europe/Monaco
BEGIN:STANDARD
DTSTART:20221030T010000
TZOFFSETTO:+0100
TZOFFSETFROM:+0200
RRULE:FREQ=YEARLY;BYMONTH=11;BYDAY=1SU
END:STANDARD
BEGIN:DAYLIGHT
DTSTART:20220327T010000
TZOFFSETTO:+0200
TZOFFSETFROM:+0100
RRULE:FREQ=YEARLY;BYMONTH=3;BYDAY=2SU
END:DAYLIGHT
END:VTIMEZONE
BEGIN:VEVENT
UID:1464-fe10c8eaab766b937966b1b2f5681e48-principocket.com\n
DTSTART:20220630T000000
DTEND:20220703T235900
TRANSP:TRANSPARENT
IMAGE;VALUE=URI;DISPLAY=;FMTTYPE=image/png:https://app.monacoplatform.
 com/uploads/zW/zWV63VE1er.jpg
STATUS:CONFIRMED
SUMMARY:16° Jumping International de Monte-Carlo 2022
DESCRIPTION:Da giovedì 30 giugno a sabato 2 luglio\, Porto di Monaco\
 n\nDal 30 giugno al 2 luglio\, tutti gli occhi saranno puntati su Port
  Hercule\, che ospiterà la 16ª edizione del Longines Global Champion
 s Tour di Monaco. Abituato a ospitare gli eventi sportivi più prestig
 iosi del pianeta\, il Principato vedrà gareggiare i migliori cavalier
 i e cavalli del mondo\, a qualche settimana dai piloti di Formula 1. 
 \n\n https://www.principocket.com/it/event/fe10c8eaab766b937966b1b2f56
 81e48/16-jumping-international-de-monte-carlo-2022
LOCATION:Port Hercule\, Monaco
URL:https://www.principocket.com/event/fe10c8eaab766b937966b1b2f5681e4
 8/1464
DTSTAMP:20260422T210533Z
CREATED:20220622T073946Z
LAST-MODIFIED:20220622T073946Z
X-MICROSOFT-CDO-ALLDAYEVENT:TRUE
END:VEVENT
END:VCALENDAR
