BEGIN:VCALENDAR
VERSION:2.0
PRODID:-//Microsoft Corporation//Outlook 16.0 MIMEDIR//FR
CALSCALE:GREGORIAN
METHOD:PUBLISH
X-WR-TIMEZONE:Europe/Monaco
X-MS-OLK-FORCEINSPECTOROPEN:"TRUE"
BEGIN:VTIMEZONE
TZID:Europe/Monaco
BEGIN:STANDARD
DTSTART:20221030T010000
TZOFFSETTO:+0100
TZOFFSETFROM:+0200
RRULE:FREQ=YEARLY;BYMONTH=11;BYDAY=1SU
END:STANDARD
BEGIN:DAYLIGHT
DTSTART:20220327T010000
TZOFFSETTO:+0200
TZOFFSETFROM:+0100
RRULE:FREQ=YEARLY;BYMONTH=3;BYDAY=2SU
END:DAYLIGHT
END:VTIMEZONE
BEGIN:VEVENT
UID:1403-ecb6e66871acd55a4804981fb704c0df-principocket.com\n
DTSTART:20220506T190000
DTEND:20220506T190000
TRANSP:TRANSPARENT
IMAGE;VALUE=URI;DISPLAY=;FMTTYPE=image/png:https://app.monacoplatform.
 com/uploads/6R/6RbBxSnHi6.jpg
STATUS:CONFIRMED
SUMMARY:Concerto
DESCRIPTION:Venerdì 6 maggio 2022 alle 19 Mediateca di Monaco - Bibli
 oteca Louis Notari\n\nConcerto di Gontard ! (palcoscenico francese)\n\
 n https://www.principocket.com/it/event/ecb6e66871acd55a4804981fb704c0
 df/concerto
LOCATION:5 Promenade Honoré II\, Monaco
URL:https://www.principocket.com/event/ecb6e66871acd55a4804981fb704c0d
 f/1403
DTSTAMP:20260422T171257Z
CREATED:20220419T092307Z
LAST-MODIFIED:20220419T092307Z
END:VEVENT
END:VCALENDAR
