BEGIN:VCALENDAR
VERSION:2.0
PRODID:-//Microsoft Corporation//Outlook 16.0 MIMEDIR//FR
CALSCALE:GREGORIAN
METHOD:PUBLISH
X-WR-TIMEZONE:Europe/Monaco
X-MS-OLK-FORCEINSPECTOROPEN:"TRUE"
BEGIN:VTIMEZONE
TZID:Europe/Monaco
BEGIN:STANDARD
DTSTART:20221030T010000
TZOFFSETTO:+0100
TZOFFSETFROM:+0200
RRULE:FREQ=YEARLY;BYMONTH=11;BYDAY=1SU
END:STANDARD
BEGIN:DAYLIGHT
DTSTART:20220327T010000
TZOFFSETTO:+0200
TZOFFSETFROM:+0100
RRULE:FREQ=YEARLY;BYMONTH=3;BYDAY=2SU
END:DAYLIGHT
END:VTIMEZONE
BEGIN:VEVENT
UID:1402-083c448d059d7d1e39f74be4ba7fccef-principocket.com\n
DTSTART:20220503T183000
DTEND:20220503T183000
TRANSP:TRANSPARENT
IMAGE;VALUE=URI;DISPLAY=;FMTTYPE=image/png:https://app.monacoplatform.
 com/uploads/uR/uRlx3PomHk.jpg
STATUS:CONFIRMED
SUMMARY:Conferenza
DESCRIPTION:MartedÌ 3 maggio 2022 alle 18.30\, Mediateca di Monaco - 
 Biblioteca Louis Notari\n\n« Des graines et des hommes » (ndt\, "Sem
 i e uomini") di Brigitte Hourtic\, con lancio ufficiale della "semitec
 a" della Mediateca\n\n https://www.principocket.com/it/event/083c448d0
 59d7d1e39f74be4ba7fccef/conferenza
LOCATION:5 Promenade Honoré II\, Monaco
URL:https://www.principocket.com/event/083c448d059d7d1e39f74be4ba7fcce
 f/1402
DTSTAMP:20260422T171327Z
CREATED:20220419T092307Z
LAST-MODIFIED:20220419T092307Z
END:VEVENT
END:VCALENDAR
