BEGIN:VCALENDAR
VERSION:2.0
PRODID:-//Microsoft Corporation//Outlook 16.0 MIMEDIR//FR
CALSCALE:GREGORIAN
METHOD:PUBLISH
X-WR-TIMEZONE:Europe/Monaco
X-MS-OLK-FORCEINSPECTOROPEN:"TRUE"
BEGIN:VTIMEZONE
TZID:Europe/Monaco
BEGIN:STANDARD
DTSTART:20211031T010000
TZOFFSETTO:+0100
TZOFFSETFROM:+0200
RRULE:FREQ=YEARLY;BYMONTH=11;BYDAY=1SU
END:STANDARD
BEGIN:DAYLIGHT
DTSTART:20210328T010000
TZOFFSETTO:+0200
TZOFFSETFROM:+0100
RRULE:FREQ=YEARLY;BYMONTH=3;BYDAY=2SU
END:DAYLIGHT
END:VTIMEZONE
BEGIN:VEVENT
UID:1205-72e14628ea0bbe87acca076b9282096f-principocket.com\n
DTSTART:20211130T203000
DTEND:20211130T203000
TRANSP:TRANSPARENT
IMAGE;VALUE=URI;DISPLAY=;FMTTYPE=image/png:https://app.monacoplatform.
 com/uploads/1T/1TQ5cG8YQo.jpg
STATUS:CONFIRMED
SUMMARY:Musica Barocca
DESCRIPTION:Martedì 30 novembre 2021 alle 20.30\, Cappella della Mise
 ricordia\n\n"Josquin Desprez\, l'universale\, Pange lingua ! Chante\, 
 ô ma langue !" dell’Ensemble Clément Janequin\, a cura della Direz
 ione degli Affari Culturali\n\n https://www.principocket.com/it/event/
 72e14628ea0bbe87acca076b9282096f/musica-barocca
LOCATION:Place de la Visitation
URL:https://www.principocket.com/event/72e14628ea0bbe87acca076b9282096
 f/1205
DTSTAMP:20260422T121603Z
CREATED:20211122T163222Z
LAST-MODIFIED:20211122T163222Z
END:VEVENT
END:VCALENDAR
