BEGIN:VCALENDAR
VERSION:2.0
PRODID:-//Microsoft Corporation//Outlook 16.0 MIMEDIR//FR
CALSCALE:GREGORIAN
METHOD:PUBLISH
X-WR-TIMEZONE:Europe/Monaco
X-MS-OLK-FORCEINSPECTOROPEN:"TRUE"
BEGIN:VTIMEZONE
TZID:Europe/Monaco
BEGIN:STANDARD
DTSTART:20211031T010000
TZOFFSETTO:+0100
TZOFFSETFROM:+0200
RRULE:FREQ=YEARLY;BYMONTH=11;BYDAY=1SU
END:STANDARD
BEGIN:DAYLIGHT
DTSTART:20210328T010000
TZOFFSETTO:+0200
TZOFFSETFROM:+0100
RRULE:FREQ=YEARLY;BYMONTH=3;BYDAY=2SU
END:DAYLIGHT
END:VTIMEZONE
BEGIN:VEVENT
UID:1204-38c38bc4291001eb80ba819067db43ae-principocket.com\n
DTSTART:20211130T193000
DTEND:20211130T193000
TRANSP:TRANSPARENT
IMAGE;VALUE=URI;DISPLAY=;FMTTYPE=image/png:https://app.monacoplatform.
 com/uploads/F9/F9oc_Q6VUL.jpg
STATUS:CONFIRMED
SUMMARY:Omaggio a Joséphine Baker
DESCRIPTION:Martedì 30 novembre 2021 alle 19.30\, American Bar\n\nOma
 ggio a Joséphine Baker all'American Bar\, a cura di Monte-Carlo Soci
 été des Bains de Mer. Con la partecipazione di Axel Jaffray\, giorna
 lista specializzato nell'ambito della musica e produttore\, accompagna
 to dai motivi più noti della cantante\, suonati da un gruppo jazz. Fo
 tografie inedite di archivi verranno svelate in sala per tutta la sera
 ta.\n\n https://www.principocket.com/it/event/38c38bc4291001eb80ba8190
 67db43ae/omaggio-a-josephine-baker
LOCATION:Hôtel de Paris Monte-Carlo Place du Casino
URL:https://www.principocket.com/event/38c38bc4291001eb80ba819067db43a
 e/1204
DTSTAMP:20260420T140315Z
CREATED:20211122T163222Z
LAST-MODIFIED:20211122T163222Z
END:VEVENT
END:VCALENDAR
