BEGIN:VCALENDAR
VERSION:2.0
PRODID:-//Microsoft Corporation//Outlook 16.0 MIMEDIR//FR
CALSCALE:GREGORIAN
METHOD:PUBLISH
X-WR-TIMEZONE:Europe/Monaco
X-MS-OLK-FORCEINSPECTOROPEN:"TRUE"
BEGIN:VTIMEZONE
TZID:Europe/Monaco
BEGIN:STANDARD
DTSTART:20211031T010000
TZOFFSETTO:+0100
TZOFFSETFROM:+0200
RRULE:FREQ=YEARLY;BYMONTH=11;BYDAY=1SU
END:STANDARD
BEGIN:DAYLIGHT
DTSTART:20210328T010000
TZOFFSETTO:+0200
TZOFFSETFROM:+0100
RRULE:FREQ=YEARLY;BYMONTH=3;BYDAY=2SU
END:DAYLIGHT
END:VTIMEZONE
BEGIN:VEVENT
UID:1202-5be453e10a29921ad49c1dbea600a64f-principocket.com\n
DTSTART:20211126T203000
DTEND:20211126T203000
TRANSP:TRANSPARENT
IMAGE;VALUE=URI;DISPLAY=;FMTTYPE=image/png:https://app.monacoplatform.
 com/uploads/VX/VXsyKIJibR.jpg
STATUS:CONFIRMED
SUMMARY:Recital di Organo
DESCRIPTION:Venerdì 26 novembre 2021 alle 20.30\, Cattedrale di Monac
 o\n\n"L'Opera di Organo di Marc Giacone" - Recital di organo di Vera Z
 véguintseva ai Grandi Organi della Cattedrale di Monaco\, a cura dell
 'Associazione In Tempore Organi.\n\n https://www.principocket.com/it/e
 vent/5be453e10a29921ad49c1dbea600a64f/recital-di-organo
LOCATION:4\, rue Colonel Bellando de Castro
URL:https://www.principocket.com/event/5be453e10a29921ad49c1dbea600a64
 f/1202
DTSTAMP:20260422T132055Z
CREATED:20211122T163222Z
LAST-MODIFIED:20211122T163222Z
END:VEVENT
END:VCALENDAR
