BEGIN:VCALENDAR
VERSION:2.0
PRODID:-//Microsoft Corporation//Outlook 16.0 MIMEDIR//FR
CALSCALE:GREGORIAN
METHOD:PUBLISH
X-WR-TIMEZONE:Europe/Monaco
X-MS-OLK-FORCEINSPECTOROPEN:"TRUE"
BEGIN:VTIMEZONE
TZID:Europe/Monaco
BEGIN:STANDARD
DTSTART:20211031T010000
TZOFFSETTO:+0100
TZOFFSETFROM:+0200
RRULE:FREQ=YEARLY;BYMONTH=11;BYDAY=1SU
END:STANDARD
BEGIN:DAYLIGHT
DTSTART:20210328T010000
TZOFFSETTO:+0200
TZOFFSETFROM:+0100
RRULE:FREQ=YEARLY;BYMONTH=3;BYDAY=2SU
END:DAYLIGHT
END:VTIMEZONE
BEGIN:VEVENT
UID:1201-dbc81c24d9440cdf09e79f582ef9463e-principocket.com\n
DTSTART:20211126T200000
DTEND:20211126T200000
TRANSP:TRANSPARENT
IMAGE;VALUE=URI;DISPLAY=;FMTTYPE=image/png:https://app.monacoplatform.
 com/uploads/0z/0zgBEcwpwn.jpg
STATUS:CONFIRMED
SUMMARY:Concerto
DESCRIPTION:Venerdì 26 novembre 2021 alle 20\, Chiesa St-Paul's\n\nCo
 ncerto di Musica barocca della Polonia e dell'Inghilterra\, diretto Er
 rol Girdlestone\, con Ristretto Ensemble Vocal e Instrumental\n\n http
 s://www.principocket.com/it/event/dbc81c24d9440cdf09e79f582ef9463e/con
 certo
LOCATION:22\, avenue de Grande Bretagne
URL:https://www.principocket.com/event/dbc81c24d9440cdf09e79f582ef9463
 e/1201
DTSTAMP:20260422T145657Z
CREATED:20211122T163222Z
LAST-MODIFIED:20211122T163222Z
END:VEVENT
END:VCALENDAR
