BEGIN:VCALENDAR
VERSION:2.0
PRODID:-//Microsoft Corporation//Outlook 16.0 MIMEDIR//FR
CALSCALE:GREGORIAN
METHOD:PUBLISH
X-WR-TIMEZONE:Europe/Monaco
X-MS-OLK-FORCEINSPECTOROPEN:"TRUE"
BEGIN:VTIMEZONE
TZID:Europe/Monaco
BEGIN:STANDARD
DTSTART:20221030T010000
TZOFFSETTO:+0100
TZOFFSETFROM:+0200
RRULE:FREQ=YEARLY;BYMONTH=11;BYDAY=1SU
END:STANDARD
BEGIN:DAYLIGHT
DTSTART:20220327T010000
TZOFFSETTO:+0200
TZOFFSETFROM:+0100
RRULE:FREQ=YEARLY;BYMONTH=3;BYDAY=2SU
END:DAYLIGHT
END:VTIMEZONE
BEGIN:VEVENT
UID:1181-21d0c99bf71dd5fb1888ec505638ef14-principocket.com\n
DTSTART:20220112T000000
DTEND:20220117T235900
TRANSP:TRANSPARENT
IMAGE;VALUE=URI;DISPLAY=;FMTTYPE=image/png:https://app.monacoplatform.
 com/uploads/VH/VH6q9oo0PW.jpg
STATUS:CONFIRMED
SUMMARY:J’ai Peur Du Noir (ndt, "Ho paura del buio")
DESCRIPTION:Mercoledì 12 alle 16.30\, sabato 15 alle 16.30 e domenica
  16 gennaio 2022 alle 11\, Théâtre des Muses\n\n"J’ai Peur Du Noir
 " (ndt\, "Ho paura del buio") di e con Nicolas Goubet\n\n https://www.
 principocket.com/it/event/21d0c99bf71dd5fb1888ec505638ef14/j-ai-peur-d
 u-noir-ndt-ho-paura-del-buio
LOCATION:45\, boulevard du Jardin Exotique
URL:https://www.principocket.com/event/21d0c99bf71dd5fb1888ec505638ef1
 4/1181
DTSTAMP:20260422T154747Z
CREATED:20220106T080345Z
LAST-MODIFIED:20220106T080345Z
X-MICROSOFT-CDO-ALLDAYEVENT:TRUE
END:VEVENT
END:VCALENDAR
