BEGIN:VCALENDAR
VERSION:2.0
PRODID:-//Microsoft Corporation//Outlook 16.0 MIMEDIR//FR
CALSCALE:GREGORIAN
METHOD:PUBLISH
X-WR-TIMEZONE:Europe/Monaco
X-MS-OLK-FORCEINSPECTOROPEN:"TRUE"
BEGIN:VTIMEZONE
TZID:Europe/Monaco
BEGIN:STANDARD
DTSTART:20221030T010000
TZOFFSETTO:+0100
TZOFFSETFROM:+0200
RRULE:FREQ=YEARLY;BYMONTH=11;BYDAY=1SU
END:STANDARD
BEGIN:DAYLIGHT
DTSTART:20220327T010000
TZOFFSETTO:+0200
TZOFFSETFROM:+0100
RRULE:FREQ=YEARLY;BYMONTH=3;BYDAY=2SU
END:DAYLIGHT
END:VTIMEZONE
BEGIN:VEVENT
UID:1179-07132f638187612f15ae98a07189e5bf-principocket.com\n
DTSTART:20220106T000000
DTEND:20220110T235900
TRANSP:TRANSPARENT
IMAGE;VALUE=URI;DISPLAY=;FMTTYPE=image/png:https://app.monacoplatform.
 com/uploads/-M/-MfPYGTwMX.jpg
STATUS:CONFIRMED
SUMMARY:Le Titre Est Provisoire (ndt, "Il titolo è provvisorio")
DESCRIPTION:Giovedì 6\, venerdì 7 e sabato 8 alle 20.30\, domenica 9
  gennaio 2022 alle 16.30\, Théâtre des Muses\n\n"Le Titre Est Provis
 oire" (ndt\, "Il titolo è provvisorio") di Christophe Corsand con Eli
 e Rapp\, Olivier Doran o Jean-Philippe Azéma e Christophe Corsand\n\n
  https://www.principocket.com/it/event/07132f638187612f15ae98a07189e5b
 f/le-titre-est-provisoire-ndt-il-titolo-e-provvisorio
LOCATION:45\, boulevard du Jardin Exotique
URL:https://www.principocket.com/event/07132f638187612f15ae98a07189e5b
 f/1179
DTSTAMP:20260422T191709Z
CREATED:20220106T080345Z
LAST-MODIFIED:20220106T080345Z
X-MICROSOFT-CDO-ALLDAYEVENT:TRUE
END:VEVENT
END:VCALENDAR
