BEGIN:VCALENDAR
VERSION:2.0
PRODID:-//Microsoft Corporation//Outlook 16.0 MIMEDIR//FR
CALSCALE:GREGORIAN
METHOD:PUBLISH
X-WR-TIMEZONE:Europe/Monaco
X-MS-OLK-FORCEINSPECTOROPEN:"TRUE"
BEGIN:VTIMEZONE
TZID:Europe/Monaco
BEGIN:STANDARD
DTSTART:20221030T010000
TZOFFSETTO:+0100
TZOFFSETFROM:+0200
RRULE:FREQ=YEARLY;BYMONTH=11;BYDAY=1SU
END:STANDARD
BEGIN:DAYLIGHT
DTSTART:20220327T010000
TZOFFSETTO:+0200
TZOFFSETFROM:+0100
RRULE:FREQ=YEARLY;BYMONTH=3;BYDAY=2SU
END:DAYLIGHT
END:VTIMEZONE
BEGIN:VEVENT
UID:1178-76f0010f1e6e0949da14e9a368e315af-principocket.com\n
DTSTART:20211230T000000
DTEND:20220103T235900
TRANSP:TRANSPARENT
IMAGE;VALUE=URI;DISPLAY=;FMTTYPE=image/png:https://app.monacoplatform.
 com/uploads/8L/8Lkq0Cbu0E.jpg
STATUS:CONFIRMED
SUMMARY:Piano Paradiso
DESCRIPTION:Giovedì 30 dicembre 2021 alle 20.30\, venerdì 31 dicembr
 e 2021 alle 20.15 e alle 22.30 (veglione)\, sabato 1 gennaio 2022 alle
  20.30 e domenica 2 gennaio 2022 alle 16.30 \, Théâtre des Muses\n\n
 "Piano Paradiso" di Alain Bernard e Gil Galliot\n\n https://www.princi
 pocket.com/it/event/76f0010f1e6e0949da14e9a368e315af/piano-paradiso
LOCATION:45\, boulevard du Jardin Exotique
URL:https://www.principocket.com/event/76f0010f1e6e0949da14e9a368e315a
 f/1178
DTSTAMP:20260422T203406Z
CREATED:20211210T101854Z
LAST-MODIFIED:20211210T101854Z
X-MICROSOFT-CDO-ALLDAYEVENT:TRUE
END:VEVENT
END:VCALENDAR
