BEGIN:VCALENDAR
VERSION:2.0
PRODID:-//Microsoft Corporation//Outlook 16.0 MIMEDIR//FR
CALSCALE:GREGORIAN
METHOD:PUBLISH
X-WR-TIMEZONE:Europe/Monaco
X-MS-OLK-FORCEINSPECTOROPEN:"TRUE"
BEGIN:VTIMEZONE
TZID:Europe/Monaco
BEGIN:STANDARD
DTSTART:20211031T010000
TZOFFSETTO:+0100
TZOFFSETFROM:+0200
RRULE:FREQ=YEARLY;BYMONTH=11;BYDAY=1SU
END:STANDARD
BEGIN:DAYLIGHT
DTSTART:20210328T010000
TZOFFSETTO:+0200
TZOFFSETFROM:+0100
RRULE:FREQ=YEARLY;BYMONTH=3;BYDAY=2SU
END:DAYLIGHT
END:VTIMEZONE
BEGIN:VEVENT
UID:1176-3f6f0f2eb7261e4d7195da810918c395-principocket.com\n
DTSTART:20211215T000000
DTEND:20211219T235900
TRANSP:TRANSPARENT
IMAGE;VALUE=URI;DISPLAY=;FMTTYPE=image/png:https://app.monacoplatform.
 com/uploads/t7/t7Lg0azCEE.jpg
STATUS:CONFIRMED
SUMMARY:Le Prince de Motordu (ndt, "Il principe di Motordu")
DESCRIPTION:Da mercoledì 15 a sabato 18 dicembre 2021\, Théâtre des
  Muses\n\n"Le Prince de Motordu" (ndt\, "Il principe di Motordu") di P
 EF con Jules Cellier\, Maud Martel o Pauline Marey-Semper\n\n https://
 www.principocket.com/it/event/3f6f0f2eb7261e4d7195da810918c395/le-prin
 ce-de-motordu-ndt-il-principe-di-motordu
LOCATION:45\, boulevard du Jardin Exotique
URL:https://www.principocket.com/event/3f6f0f2eb7261e4d7195da810918c39
 5/1176
DTSTAMP:20260422T235130Z
CREATED:20211210T101854Z
LAST-MODIFIED:20211210T101854Z
X-MICROSOFT-CDO-ALLDAYEVENT:TRUE
END:VEVENT
END:VCALENDAR
