BEGIN:VCALENDAR
VERSION:2.0
PRODID:-//Microsoft Corporation//Outlook 16.0 MIMEDIR//FR
CALSCALE:GREGORIAN
METHOD:PUBLISH
X-WR-TIMEZONE:Europe/Monaco
X-MS-OLK-FORCEINSPECTOROPEN:"TRUE"
BEGIN:VTIMEZONE
TZID:Europe/Monaco
BEGIN:STANDARD
DTSTART:20211031T010000
TZOFFSETTO:+0100
TZOFFSETFROM:+0200
RRULE:FREQ=YEARLY;BYMONTH=11;BYDAY=1SU
END:STANDARD
BEGIN:DAYLIGHT
DTSTART:20210328T010000
TZOFFSETTO:+0200
TZOFFSETFROM:+0100
RRULE:FREQ=YEARLY;BYMONTH=3;BYDAY=2SU
END:DAYLIGHT
END:VTIMEZONE
BEGIN:VEVENT
UID:1172-4e70104523b68e5581127ef0afcbc4e7-principocket.com\n
DTSTART:20211202T000000
DTEND:20211206T235900
TRANSP:TRANSPARENT
IMAGE;VALUE=URI;DISPLAY=;FMTTYPE=image/png:https://app.monacoplatform.
 com/uploads/nC/nCD8tZLzw8.jpg
STATUS:CONFIRMED
SUMMARY:Tant Qu'Il Y Aura Des Coquelicots... (ndt, "Finché ci saranno
  papaveri...")
DESCRIPTION:Giovedì 2\, venerdì 3 e sabato 4 alle 20.30 e domenica 5
  dicembre 2021 alle 17.00\, Théâtre des Muses\n\n"Tant Qu'Il Y Aura 
 Des Coquelicots..." (ndt\, "Finché ci saranno papaveri...") di e con 
 Cliff Paillé accompagnato da Johannah Ayalon\n\n https://www.principo
 cket.com/it/event/4e70104523b68e5581127ef0afcbc4e7/tant-qu-il-y-aura-d
 es-coquelicots-ndt-finche-ci-saranno-papaveri
LOCATION:45\, boulevard du Jardin Exotique
URL:https://www.principocket.com/event/4e70104523b68e5581127ef0afcbc4e
 7/1172
DTSTAMP:20260423T063028Z
CREATED:20211202T104536Z
LAST-MODIFIED:20211202T104536Z
X-MICROSOFT-CDO-ALLDAYEVENT:TRUE
END:VEVENT
END:VCALENDAR
