BEGIN:VCALENDAR
VERSION:2.0
PRODID:-//Microsoft Corporation//Outlook 16.0 MIMEDIR//FR
CALSCALE:GREGORIAN
METHOD:PUBLISH
X-WR-TIMEZONE:Europe/Monaco
X-MS-OLK-FORCEINSPECTOROPEN:"TRUE"
BEGIN:VTIMEZONE
TZID:Europe/Monaco
BEGIN:STANDARD
DTSTART:20211031T010000
TZOFFSETTO:+0100
TZOFFSETFROM:+0200
RRULE:FREQ=YEARLY;BYMONTH=11;BYDAY=1SU
END:STANDARD
BEGIN:DAYLIGHT
DTSTART:20210328T010000
TZOFFSETTO:+0200
TZOFFSETFROM:+0100
RRULE:FREQ=YEARLY;BYMONTH=3;BYDAY=2SU
END:DAYLIGHT
END:VTIMEZONE
BEGIN:VEVENT
UID:1171-154df950046e95c7fc81375289badb3d-principocket.com\n
DTSTART:20211201T000000
DTEND:20211206T235900
TRANSP:TRANSPARENT
IMAGE;VALUE=URI;DISPLAY=;FMTTYPE=image/png:https://app.monacoplatform.
 com/uploads/-2/-2CeYK8Rhw.jpg
STATUS:CONFIRMED
SUMMARY:Une Lumière Pour Noël
DESCRIPTION:Mercoledì 1 alle 16.30\, sabato 4 alle 14.30 e alle 16.30
 \, domenica 5 dicembre 2022 alle 11 e alle 15\, Théâtre des Muses\n\
 n"Une Lumière Pour Noël" (ndt\, "Una luce per Natale") di e con Vér
 onique Balme\n\n https://www.principocket.com/it/event/154df950046e95c
 7fc81375289badb3d/une-lumiere-pour-noel
LOCATION:45\, boulevard du Jardin Exotique
URL:https://www.principocket.com/event/154df950046e95c7fc81375289badb3
 d/1171
DTSTAMP:20260423T081424Z
CREATED:20211202T104536Z
LAST-MODIFIED:20211202T104536Z
X-MICROSOFT-CDO-ALLDAYEVENT:TRUE
END:VEVENT
END:VCALENDAR
