BEGIN:VCALENDAR
VERSION:2.0
PRODID:-//Microsoft Corporation//Outlook 16.0 MIMEDIR//FR
CALSCALE:GREGORIAN
METHOD:PUBLISH
X-WR-TIMEZONE:Europe/Monaco
X-MS-OLK-FORCEINSPECTOROPEN:"TRUE"
BEGIN:VTIMEZONE
TZID:Europe/Monaco
BEGIN:STANDARD
DTSTART:20221030T010000
TZOFFSETTO:+0100
TZOFFSETFROM:+0200
RRULE:FREQ=YEARLY;BYMONTH=11;BYDAY=1SU
END:STANDARD
BEGIN:DAYLIGHT
DTSTART:20220327T010000
TZOFFSETTO:+0200
TZOFFSETFROM:+0100
RRULE:FREQ=YEARLY;BYMONTH=3;BYDAY=2SU
END:DAYLIGHT
END:VTIMEZONE
BEGIN:VEVENT
UID:1151-038da400a38b710a09844cd1f55ba8ff-principocket.com\n
DTSTART:20220324T183000
DTEND:20220324T183000
TRANSP:TRANSPARENT
IMAGE;VALUE=URI;DISPLAY=;FMTTYPE=image/png:https://app.monacoplatform.
 com/uploads/yk/yk2g1hwX-k.jpg
STATUS:CONFIRMED
SUMMARY:Dowdelin
DESCRIPTION:Giovedì 24 marzo 2022\, alle 18.30\, Grimaldi Forum Monac
 o - Espace Indigo\n\nThursday Live Session con Dowdelin\n\n https://ww
 w.principocket.com/it/event/038da400a38b710a09844cd1f55ba8ff/dowdelin
LOCATION:10\, avenue Princesse Grace
URL:https://www.principocket.com/event/038da400a38b710a09844cd1f55ba8f
 f/1151
DTSTAMP:20260422T211831Z
CREATED:20220317T163810Z
LAST-MODIFIED:20220317T163810Z
END:VEVENT
END:VCALENDAR
