BEGIN:VCALENDAR
VERSION:2.0
PRODID:-//Microsoft Corporation//Outlook 16.0 MIMEDIR//FR
CALSCALE:GREGORIAN
METHOD:PUBLISH
X-WR-TIMEZONE:Europe/Monaco
X-MS-OLK-FORCEINSPECTOROPEN:"TRUE"
BEGIN:VTIMEZONE
TZID:Europe/Monaco
BEGIN:STANDARD
DTSTART:20221030T010000
TZOFFSETTO:+0100
TZOFFSETFROM:+0200
RRULE:FREQ=YEARLY;BYMONTH=11;BYDAY=1SU
END:STANDARD
BEGIN:DAYLIGHT
DTSTART:20220327T010000
TZOFFSETTO:+0200
TZOFFSETFROM:+0100
RRULE:FREQ=YEARLY;BYMONTH=3;BYDAY=2SU
END:DAYLIGHT
END:VTIMEZONE
BEGIN:VEVENT
UID:1146-4dbe540b9df2fb1372a8de6942544b70-principocket.com\n
DTSTART:20220315T200000
DTEND:20220315T200000
TRANSP:TRANSPARENT
IMAGE;VALUE=URI;DISPLAY=;FMTTYPE=image/png:https://app.monacoplatform.
 com/uploads/NH/NHrkAimHRd.jpg
STATUS:CONFIRMED
SUMMARY:Ritratto di Signora
DESCRIPTION:Martedì 15 marzo 2022 alle 20\, Théâtre des Variétés\
 n\nTutta l'arte del Cinema  -I Martedì del cinema -proiezione del fil
 m "Ritratto di Signora" di Jane Campion (1996) organizzata dall'Istitu
 to Audiovisivo di Monaco\n\n https://www.principocket.com/it/event/4db
 e540b9df2fb1372a8de6942544b70/ritratto-di-signora
LOCATION:1\, boulevard Albert Ier
URL:https://www.principocket.com/event/4dbe540b9df2fb1372a8de6942544b7
 0/1146
DTSTAMP:20260423T051523Z
CREATED:20220217T111028Z
LAST-MODIFIED:20220217T111028Z
END:VEVENT
END:VCALENDAR
