BEGIN:VCALENDAR
VERSION:2.0
PRODID:-//Microsoft Corporation//Outlook 16.0 MIMEDIR//FR
CALSCALE:GREGORIAN
METHOD:PUBLISH
X-WR-TIMEZONE:Europe/Monaco
X-MS-OLK-FORCEINSPECTOROPEN:"TRUE"
BEGIN:VTIMEZONE
TZID:Europe/Monaco
BEGIN:STANDARD
DTSTART:20221030T010000
TZOFFSETTO:+0100
TZOFFSETFROM:+0200
RRULE:FREQ=YEARLY;BYMONTH=11;BYDAY=1SU
END:STANDARD
BEGIN:DAYLIGHT
DTSTART:20220327T010000
TZOFFSETTO:+0200
TZOFFSETFROM:+0100
RRULE:FREQ=YEARLY;BYMONTH=3;BYDAY=2SU
END:DAYLIGHT
END:VTIMEZONE
BEGIN:VEVENT
UID:1145-1d555d39afcdd6fe9bf2b05f3386adb6-principocket.com\n
DTSTART:20220311T200000
DTEND:20220311T200000
TRANSP:TRANSPARENT
IMAGE;VALUE=URI;DISPLAY=;FMTTYPE=image/png:https://app.monacoplatform.
 com/uploads/bh/bhTVcJH5RR.jpg
STATUS:CONFIRMED
SUMMARY:Respiro
DESCRIPTION:Venerdì 11 marzo 2022 alle 20\, Théâtre des Variétés\
 n\nTutta l'Arte del Cinema - Cinema e Mediterraneo - proiezione del fi
 lm "Respiro" di Emanuele Crialese (2003) a cura dell'Istituto Audiovis
 ivo di Monaco\, in collaborazione con Rencontres Internationales Monac
 o Et La Méditerranée\n\n https://www.principocket.com/it/event/1d555
 d39afcdd6fe9bf2b05f3386adb6/respiro
LOCATION:1\, boulevard Albert Ier
URL:https://www.principocket.com/event/1d555d39afcdd6fe9bf2b05f3386adb
 6/1145
DTSTAMP:20260423T065823Z
CREATED:20220217T111028Z
LAST-MODIFIED:20220217T111028Z
END:VEVENT
END:VCALENDAR
