BEGIN:VCALENDAR
VERSION:2.0
PRODID:-//Microsoft Corporation//Outlook 16.0 MIMEDIR//FR
CALSCALE:GREGORIAN
METHOD:PUBLISH
X-WR-TIMEZONE:Europe/Monaco
X-MS-OLK-FORCEINSPECTOROPEN:"TRUE"
BEGIN:VTIMEZONE
TZID:Europe/Monaco
BEGIN:STANDARD
DTSTART:20221030T010000
TZOFFSETTO:+0100
TZOFFSETFROM:+0200
RRULE:FREQ=YEARLY;BYMONTH=11;BYDAY=1SU
END:STANDARD
BEGIN:DAYLIGHT
DTSTART:20220327T010000
TZOFFSETTO:+0200
TZOFFSETFROM:+0100
RRULE:FREQ=YEARLY;BYMONTH=3;BYDAY=2SU
END:DAYLIGHT
END:VTIMEZONE
BEGIN:VEVENT
UID:1143-3f39b8bc2895bca350223b79680de23d-principocket.com\n
DTSTART:20220224T183000
DTEND:20220224T183000
TRANSP:TRANSPARENT
IMAGE;VALUE=URI;DISPLAY=;FMTTYPE=image/png:https://app.monacoplatform.
 com/uploads/IX/IXtKM2vACQ.jpg
STATUS:CONFIRMED
SUMMARY:Tankus the Henge
DESCRIPTION:Giovedì 24 febbraio 2022\, alle 18.30\, Grimaldi Forum Mo
 naco - Espace Indigo\n\nThursday Live Session con Tankus the Henge\n\n
  https://www.principocket.com/it/event/3f39b8bc2895bca350223b79680de23
 d/tankus-the-henge
LOCATION:10\, avenue Princesse Grace
URL:https://www.principocket.com/event/3f39b8bc2895bca350223b79680de23
 d/1143
DTSTAMP:20260423T101822Z
CREATED:20220217T111027Z
LAST-MODIFIED:20220217T111027Z
END:VEVENT
END:VCALENDAR
