BEGIN:VCALENDAR
VERSION:2.0
PRODID:-//Microsoft Corporation//Outlook 16.0 MIMEDIR//FR
CALSCALE:GREGORIAN
METHOD:PUBLISH
X-WR-TIMEZONE:Europe/Monaco
X-MS-OLK-FORCEINSPECTOROPEN:"TRUE"
BEGIN:VTIMEZONE
TZID:Europe/Monaco
BEGIN:STANDARD
DTSTART:20221030T010000
TZOFFSETTO:+0100
TZOFFSETFROM:+0200
RRULE:FREQ=YEARLY;BYMONTH=11;BYDAY=1SU
END:STANDARD
BEGIN:DAYLIGHT
DTSTART:20220327T010000
TZOFFSETTO:+0200
TZOFFSETFROM:+0100
RRULE:FREQ=YEARLY;BYMONTH=3;BYDAY=2SU
END:DAYLIGHT
END:VTIMEZONE
BEGIN:VEVENT
UID:1142-f29a2233c54193283043713f50bc887c-principocket.com\n
DTSTART:20220222T200000
DTEND:20220222T200000
TRANSP:TRANSPARENT
IMAGE;VALUE=URI;DISPLAY=;FMTTYPE=image/png:https://app.monacoplatform.
 com/uploads/93/93Gti2V4XE.jpg
STATUS:CONFIRMED
SUMMARY:Mille Mesi
DESCRIPTION:Martedì 22 febbraio 2022 alle 20\, Théâtre des Variét
 és\n\nTutta l'arte del Cinema  - I Martedì del Cinema- proiezione de
 l film "Mille Mesi" di Faouzi Bensaïdi (2003) a cura dell'Istituto Au
 diovisivo di Monaco\n\n https://www.principocket.com/it/event/f29a2233
 c54193283043713f50bc887c/mille-mesi
LOCATION:1\, boulevard Albert Ier
URL:https://www.principocket.com/event/f29a2233c54193283043713f50bc887
 c/1142
DTSTAMP:20260423T115721Z
CREATED:20220217T111027Z
LAST-MODIFIED:20220217T111027Z
END:VEVENT
END:VCALENDAR
