BEGIN:VCALENDAR
VERSION:2.0
PRODID:-//Microsoft Corporation//Outlook 16.0 MIMEDIR//FR
CALSCALE:GREGORIAN
METHOD:PUBLISH
X-WR-TIMEZONE:Europe/Monaco
X-MS-OLK-FORCEINSPECTOROPEN:"TRUE"
BEGIN:VTIMEZONE
TZID:Europe/Monaco
BEGIN:STANDARD
DTSTART:20221030T010000
TZOFFSETTO:+0100
TZOFFSETFROM:+0200
RRULE:FREQ=YEARLY;BYMONTH=11;BYDAY=1SU
END:STANDARD
BEGIN:DAYLIGHT
DTSTART:20220327T010000
TZOFFSETTO:+0200
TZOFFSETFROM:+0100
RRULE:FREQ=YEARLY;BYMONTH=3;BYDAY=2SU
END:DAYLIGHT
END:VTIMEZONE
BEGIN:VEVENT
UID:1139-346174c29442b7efdbdc59678d9b63d1-principocket.com\n
DTSTART:20220131T183000
DTEND:20220131T183000
TRANSP:TRANSPARENT
IMAGE;VALUE=URI;DISPLAY=;FMTTYPE=image/png:https://app.monacoplatform.
 com/uploads/Yl/YlZrZLOLKM.jpg
STATUS:CONFIRMED
SUMMARY:Mia Hansen-Løve Master-Class
DESCRIPTION:Lunedì 31 gennaio 2022\, alle 18.30\, Théâtre des Vari
 étés\n\nTutta l'Arte del Cinema - "Master-Class Mia Hansen-Løve"\, 
  la regista Mia Hansen-Løve torna sui passaggi salienti che hanno dat
 o corpo alla sua preziosa filmografia\, a cura  dell'Istituto Audiovis
 ivo di Monaco e in collaborazione con la Fondazione Prince Pierre\n\n 
 https://www.principocket.com/it/event/346174c29442b7efdbdc59678d9b63d1
 /mia-hansen-love-master-class
LOCATION:1\, boulevard Albert Ier
URL:https://www.principocket.com/event/346174c29442b7efdbdc59678d9b63d
 1/1139
DTSTAMP:20260423T164703Z
CREATED:20220124T083114Z
LAST-MODIFIED:20220124T083114Z
END:VEVENT
END:VCALENDAR
