BEGIN:VCALENDAR
VERSION:2.0
PRODID:-//Microsoft Corporation//Outlook 16.0 MIMEDIR//FR
CALSCALE:GREGORIAN
METHOD:PUBLISH
X-WR-TIMEZONE:Europe/Monaco
X-MS-OLK-FORCEINSPECTOROPEN:"TRUE"
BEGIN:VTIMEZONE
TZID:Europe/Monaco
BEGIN:STANDARD
DTSTART:20221030T010000
TZOFFSETTO:+0100
TZOFFSETFROM:+0200
RRULE:FREQ=YEARLY;BYMONTH=11;BYDAY=1SU
END:STANDARD
BEGIN:DAYLIGHT
DTSTART:20220327T010000
TZOFFSETTO:+0200
TZOFFSETFROM:+0100
RRULE:FREQ=YEARLY;BYMONTH=3;BYDAY=2SU
END:DAYLIGHT
END:VTIMEZONE
BEGIN:VEVENT
UID:1138-91bb88e270102e185e9df520b9e41e43-principocket.com\n
DTSTART:20220131T000000
DTEND:20220203T235900
TRANSP:TRANSPARENT
IMAGE;VALUE=URI;DISPLAY=;FMTTYPE=image/png:https://app.monacoplatform.
 com/uploads/a8/a8hr1US7Vv.jpg
STATUS:CONFIRMED
SUMMARY:5° Rally Monte-Carlo Classico
DESCRIPTION:Da lunedì 31 gennaio a mercoledì 2 febbraio 2022\, Princ
 ipato di Monaco\n\n5° Rally Monte-Carlo Classico\, riservato alle vet
 ture di interesse storico\, conformi alla legislazione stradale\, cons
 truite dal 1911 al 1965\n\n https://www.principocket.com/it/event/91bb
 88e270102e185e9df520b9e41e43/5-rally-monte-carlo-classico
LOCATION:Monaco
URL:https://www.principocket.com/event/91bb88e270102e185e9df520b9e41e4
 3/1138
DTSTAMP:20260423T181519Z
CREATED:20220124T083114Z
LAST-MODIFIED:20220124T083114Z
X-MICROSOFT-CDO-ALLDAYEVENT:TRUE
END:VEVENT
END:VCALENDAR
